BEGIN:VCALENDAR
VERSION:2.0
PRODID:-//Verschickungsheime - ECPv6.15.20//NONSGML v1.0//EN
CALSCALE:GREGORIAN
METHOD:PUBLISH
X-ORIGINAL-URL:https://verschickungsheime.de
X-WR-CALDESC:Veranstaltungen für Verschickungsheime
REFRESH-INTERVAL;VALUE=DURATION:PT1H
X-Robots-Tag:noindex
X-PUBLISHED-TTL:PT1H
BEGIN:VTIMEZONE
TZID:Europe/Berlin
BEGIN:DAYLIGHT
TZOFFSETFROM:+0100
TZOFFSETTO:+0200
TZNAME:CEST
DTSTART:20220327T010000
END:DAYLIGHT
BEGIN:STANDARD
TZOFFSETFROM:+0200
TZOFFSETTO:+0100
TZNAME:CET
DTSTART:20221030T010000
END:STANDARD
BEGIN:DAYLIGHT
TZOFFSETFROM:+0100
TZOFFSETTO:+0200
TZNAME:CEST
DTSTART:20230326T010000
END:DAYLIGHT
BEGIN:STANDARD
TZOFFSETFROM:+0200
TZOFFSETTO:+0100
TZNAME:CET
DTSTART:20231029T010000
END:STANDARD
BEGIN:DAYLIGHT
TZOFFSETFROM:+0100
TZOFFSETTO:+0200
TZNAME:CEST
DTSTART:20240331T010000
END:DAYLIGHT
BEGIN:STANDARD
TZOFFSETFROM:+0200
TZOFFSETTO:+0100
TZNAME:CET
DTSTART:20241027T010000
END:STANDARD
END:VTIMEZONE
BEGIN:VEVENT
DTSTART;TZID=Europe/Berlin:20230117T180000
DTEND;TZID=Europe/Berlin:20230117T200000
DTSTAMP:20260422T200814
CREATED:20221215T152159Z
LAST-MODIFIED:20221215T152221Z
UID:10000867-1673978400-1673985600@verschickungsheime.de
SUMMARY:Eine Subkultur der Gewalt. Das Verschickungsheim als totale Institution?
DESCRIPTION:NEUER TERMIN!Online-Vortrag (ZOOM) Prof. Dr. Hans-Walter Schmuhl:Eine Subkultur der Gewalt. Das Verschickungsheim als totale Institution?Wie konnte es zu einer »Subkultur der Gewalt« in Kinderverschickungsheimen kommen? Dieser grundlegenden Frage stellt sich Prof. Dr. Hans-Walter Schmuhl. Der Historiker\, der zum Thema bereits auf dem Bad Sassendorfer Kongress sprach und derzeit an einer Kinderverschickungs-Studie im Auftrag der DAK arbeitet\, bringt die Kindererholungsheime in Zusammenhang mit anderen Fürsorgeeinrichtungen für Kinder und Jugendliche. Ähnlich wie in Kinderheimen lässt sich mittels dieser vergleichenden Perspektive auch in Verschickungsheimen ein hohes Maß an Gewalt identifizieren. Um diesen Umstand zu erklären\, greift Schmuhl auf das Konzept der „totalen Institution“ nach Erving Goffman zurück. Aus dem Konzept entwickelt Schmuhl eine Typologie der Gewalt\, »um die Gewalterfahrungen ehemaliger Verschickungskinder besser einordnen zu können«. Nach der Veranstaltung können die TeilnehmerInnen mit Herrn Prof. Schmuhl über die eigenen Erfahrungen diskutieren.Bei Interesse bitte per Mail (projekt@akv-nrw.de) mit dem Stichwort „Schmuhl“ im Betreff anmelden! Einen Tag vor der Veranstaltung versenden wir einen Einladungslink.
URL:https://verschickungsheime.de/event/eine-subkultur-der-gewalt-das-verschickungsheim-als-totale-institution/
CATEGORIES:NRW
END:VEVENT
END:VCALENDAR