BEGIN:VCALENDAR
VERSION:2.0
PRODID:-//Verschickungsheime - ECPv6.15.20//NONSGML v1.0//EN
CALSCALE:GREGORIAN
METHOD:PUBLISH
X-WR-CALNAME:Verschickungsheime
X-ORIGINAL-URL:https://verschickungsheime.de
X-WR-CALDESC:Veranstaltungen für Verschickungsheime
REFRESH-INTERVAL;VALUE=DURATION:PT1H
X-Robots-Tag:noindex
X-PUBLISHED-TTL:PT1H
BEGIN:VTIMEZONE
TZID:Europe/Berlin
BEGIN:DAYLIGHT
TZOFFSETFROM:+0100
TZOFFSETTO:+0200
TZNAME:CEST
DTSTART:20220327T010000
END:DAYLIGHT
BEGIN:STANDARD
TZOFFSETFROM:+0200
TZOFFSETTO:+0100
TZNAME:CET
DTSTART:20221030T010000
END:STANDARD
BEGIN:DAYLIGHT
TZOFFSETFROM:+0100
TZOFFSETTO:+0200
TZNAME:CEST
DTSTART:20230326T010000
END:DAYLIGHT
BEGIN:STANDARD
TZOFFSETFROM:+0200
TZOFFSETTO:+0100
TZNAME:CET
DTSTART:20231029T010000
END:STANDARD
BEGIN:DAYLIGHT
TZOFFSETFROM:+0100
TZOFFSETTO:+0200
TZNAME:CEST
DTSTART:20240331T010000
END:DAYLIGHT
BEGIN:STANDARD
TZOFFSETFROM:+0200
TZOFFSETTO:+0100
TZNAME:CET
DTSTART:20241027T010000
END:STANDARD
END:VTIMEZONE
BEGIN:VEVENT
DTSTART;TZID=Europe/Berlin:20230213T170000
DTEND;TZID=Europe/Berlin:20230213T190000
DTSTAMP:20260422T223301
CREATED:20230124T193455Z
LAST-MODIFIED:20230124T194127Z
UID:10000877-1676307600-1676314800@verschickungsheime.de
SUMMARY:Workshop Achtsamkeitstraining mit Birgit Schönberger (Zoom)
DESCRIPTION:Unser 1. Angebot Resilienz-Training war ein großer Erfolg. Die Teilnehmer:innen waren begeistert von der Wirkung und der wohltuenden Atmosphäre. \n\n\n\nAnmeldung an: projekt@akv-nrw.de Stichwort: Birgit Neu \n\n\n\nWas euch im Workshop erwartet:Wenn belastende Erinnerungen hochkommen oder wir uns Sorgen machen\, landen wir manchmal in einer Grübelspirale und verlieren den Kontakt zu unseren Stärken. Das Weltgeschehen kann uns zusetzen\, belastende Erfahrungen in der Vergangenheit\, aber auch die kleinen und großen Herausforderungen des Alltags. Doch es gibt stärkende Body-Mind-Übungen\, mit denen wir wieder ins Gleichgewicht kommen. In dieser Workshop-Reihe lernen wir\, wie wir aus dem Kopfkino aussteigen und wieder im Hier und Jetzt landen. Wir üben\, die Gedanken zu beruhigen\, mit schwierigen Gefühlen umzugehen und uns wieder stabil zu fühlen. Wir erkunden\, was uns stärkt und uns hilft\, mit Herausforderungen umzugehen und daran zu wachsen. \n\n\n\nLeitung: Birgit Schönberger\, Coach\, Meditationslehrerin\, Autorin\, arbeitet mit Coaching-Kund:innen an den Themen: Umgang mit Stress und Belastungen\, Selbstmanagement\, Selbstfürsorge. \n\n\n\nVeröffentlichung:„Zen Power für Frauen. Innere Stärke und Gelassenheit entwickeln“\, O.W. Barth Verlag/Droemer Knaur GmbH\, München\, 2021. \n\n\n\nNähere Infos zur Person: www.birgit-schoenberger.de
URL:https://verschickungsheime.de/event/workshop-achtsamkeitstraining-mit-birgit-schoenberger/
CATEGORIES:NRW
END:VEVENT
END:VCALENDAR