BEGIN:VCALENDAR
VERSION:2.0
PRODID:-//Verschickungsheime - ECPv6.15.20//NONSGML v1.0//EN
CALSCALE:GREGORIAN
METHOD:PUBLISH
X-ORIGINAL-URL:https://verschickungsheime.de
X-WR-CALDESC:Veranstaltungen für Verschickungsheime
REFRESH-INTERVAL;VALUE=DURATION:PT1H
X-Robots-Tag:noindex
X-PUBLISHED-TTL:PT1H
BEGIN:VTIMEZONE
TZID:Europe/Berlin
BEGIN:DAYLIGHT
TZOFFSETFROM:+0100
TZOFFSETTO:+0200
TZNAME:CEST
DTSTART:20220327T010000
END:DAYLIGHT
BEGIN:STANDARD
TZOFFSETFROM:+0200
TZOFFSETTO:+0100
TZNAME:CET
DTSTART:20221030T010000
END:STANDARD
BEGIN:DAYLIGHT
TZOFFSETFROM:+0100
TZOFFSETTO:+0200
TZNAME:CEST
DTSTART:20230326T010000
END:DAYLIGHT
BEGIN:STANDARD
TZOFFSETFROM:+0200
TZOFFSETTO:+0100
TZNAME:CET
DTSTART:20231029T010000
END:STANDARD
BEGIN:DAYLIGHT
TZOFFSETFROM:+0100
TZOFFSETTO:+0200
TZNAME:CEST
DTSTART:20240331T010000
END:DAYLIGHT
BEGIN:STANDARD
TZOFFSETFROM:+0200
TZOFFSETTO:+0100
TZNAME:CET
DTSTART:20241027T010000
END:STANDARD
END:VTIMEZONE
BEGIN:VEVENT
DTSTART;TZID=Europe/Berlin:20230214T170000
DTEND;TZID=Europe/Berlin:20230214T190000
DTSTAMP:20260422T223536
CREATED:20230203T174249Z
LAST-MODIFIED:20230213T114852Z
UID:10000732-1676394000-1676401200@verschickungsheime.de
SUMMARY:Online-Archivworkshop
DESCRIPTION:Wir laden Euch zu einem Austausch per ZOOM mit der Kreisarchivarin Dr. Beate Sturm ein.  \n\n\n\nNach den erfolgreichen Workshops im vergangenen Jahr\, in denen Experten Einblicke in die Archivlandschaft NRWs gegeben haben\, bieten wir in diesem Frühjahr wieder neue Workshops zum Thema Archivrecherche an. \n\n\n\nDen Auftakt macht Dr. Beate Sturm\, Leiterin im Kreisarchiv Kleve. Frau Dr. Sturm hat in ihrem Haus Quellen des Kreisgesundheitsamtes Geldern erschlossen und weit über hundert personenbezogene Aktenbestände zugänglich gemacht: Etwa Anamnese-Bögen\, Diagnosen\, Akten zum Transport und Kurkontroll-Bögen. Insgesamt handelt es sich um Informationen zu ca. 350 Kindern\, die aus dem Alt-Kreis Geldern in den Jahren 1948-1968 verschickt wurden. Frau Dr. Sturm wird in dem Online-Workshop ihre Arbeit und ihre Ergebnisse vorstellen (Wichtig: Personenspezifische Anfragen zu konkreten Akten können nicht innerhalb des Workshops verfolgt werden\, sondern müssen separat behandelt werden). \n\n\n\nWir weisen darauf hin\, dass dieser Workshop sich nicht ausschließlich regional auf die Archivfunde des Alt-Kreises Geldern bezieht\, sondern aufgrund seiner Konzeption auch viele wertvolle Tipps und Hilfestellungen zur überregionalen Archivrecherche bereitstellt. \n\n\n\nPersonenbezogene Verschickungsakten erschließen – Dr. Beate Sturm über ihre Arbeit in Kleve/GeldernWann: 14.02.2023\, 17-19 UhrWo: Online (Zoom-Veranstaltung)Wir senden Interessierten eine Einladung am Tag vor der Veranstaltung. Anmeldungen bitte unter projekt@akv-nrw.de mit dem Stichwort “Sturm”.
URL:https://verschickungsheime.de/event/regionaler-online-archivworkshop/
CATEGORIES:NRW
END:VEVENT
BEGIN:VEVENT
DTSTART;TZID=Europe/Berlin:20230214T180000
DTEND;TZID=Europe/Berlin:20230214T200000
DTSTAMP:20260422T223536
CREATED:20230113T092037Z
LAST-MODIFIED:20230113T092039Z
UID:10000874-1676397600-1676404800@verschickungsheime.de
SUMMARY:26. Videotreffen NDS
DESCRIPTION:
URL:https://verschickungsheime.de/event/26-videotreffen-nds/
END:VEVENT
END:VCALENDAR