BEGIN:VCALENDAR
VERSION:2.0
PRODID:-//Verschickungsheime - ECPv6.15.20//NONSGML v1.0//EN
CALSCALE:GREGORIAN
METHOD:PUBLISH
X-WR-CALNAME:Verschickungsheime
X-ORIGINAL-URL:https://verschickungsheime.de
X-WR-CALDESC:Veranstaltungen für Verschickungsheime
REFRESH-INTERVAL;VALUE=DURATION:PT1H
X-Robots-Tag:noindex
X-PUBLISHED-TTL:PT1H
BEGIN:VTIMEZONE
TZID:Europe/Berlin
BEGIN:DAYLIGHT
TZOFFSETFROM:+0100
TZOFFSETTO:+0200
TZNAME:CEST
DTSTART:20220327T010000
END:DAYLIGHT
BEGIN:STANDARD
TZOFFSETFROM:+0200
TZOFFSETTO:+0100
TZNAME:CET
DTSTART:20221030T010000
END:STANDARD
BEGIN:DAYLIGHT
TZOFFSETFROM:+0100
TZOFFSETTO:+0200
TZNAME:CEST
DTSTART:20230326T010000
END:DAYLIGHT
BEGIN:STANDARD
TZOFFSETFROM:+0200
TZOFFSETTO:+0100
TZNAME:CET
DTSTART:20231029T010000
END:STANDARD
BEGIN:DAYLIGHT
TZOFFSETFROM:+0100
TZOFFSETTO:+0200
TZNAME:CEST
DTSTART:20240331T010000
END:DAYLIGHT
BEGIN:STANDARD
TZOFFSETFROM:+0200
TZOFFSETTO:+0100
TZNAME:CET
DTSTART:20241027T010000
END:STANDARD
END:VTIMEZONE
BEGIN:VEVENT
DTSTART;TZID=Europe/Berlin:20230216T190000
DTEND;TZID=Europe/Berlin:20230216T203000
DTSTAMP:20260422T223302
CREATED:20230126T190529Z
LAST-MODIFIED:20230214T170206Z
UID:10000727-1676574000-1676579400@verschickungsheime.de
SUMMARY:1. Präsenz-Treffen der Berliner Gruppe Initiative Verschickungskinder im Jahr 2023 im Sekis e.V. (mit Lesung)
DESCRIPTION:Auf Wunsch einiger Berliner Verschickungskinder trifft sich ab 16.2.23 um 19 Uhr eine Gruppe Verschickungskinder der Initiative wieder monatlich im Sekis e.V.\, in Berlin Charlottenburg in der Bismarckstrasse 101. Das Treffen am 16.2. um 19 Uhr im Sekis e.V. (Bismarckstraße 101\, in Berlin Charlottenburg\, U-Bhf Deutsche Oper)\, beginnt mit einer Lesung aus dem Buch:Heimweh-Verschickungskinder erzählen und gibt dann viel Raum für Diskussionen und Zeitzeugenaustausch. Wir möchten herzlich dazu einladen: Berliner Gruppe Verschickungskinder:  Mail-Kontakt: berlin@verschickungsheime.de\, und freuen uns auf Interessierte und tatkräftige Unterstützung.
URL:https://verschickungsheime.de/event/1-berliner-gruppe-verschickungskinder-im-sekis-e-v/
ATTACH;FMTTYPE=image/jpeg:https://verschickungsheime.de/wp-content/uploads/2023/02/A5E825B2-D68B-42C4-9E39-654E0AA0CDA0.jpeg
END:VEVENT
END:VCALENDAR