BEGIN:VCALENDAR
VERSION:2.0
PRODID:-//Verschickungsheime - ECPv6.15.20//NONSGML v1.0//EN
CALSCALE:GREGORIAN
METHOD:PUBLISH
X-ORIGINAL-URL:https://verschickungsheime.de
X-WR-CALDESC:Veranstaltungen für Verschickungsheime
REFRESH-INTERVAL;VALUE=DURATION:PT1H
X-Robots-Tag:noindex
X-PUBLISHED-TTL:PT1H
BEGIN:VTIMEZONE
TZID:Europe/Berlin
BEGIN:DAYLIGHT
TZOFFSETFROM:+0100
TZOFFSETTO:+0200
TZNAME:CEST
DTSTART:20220327T010000
END:DAYLIGHT
BEGIN:STANDARD
TZOFFSETFROM:+0200
TZOFFSETTO:+0100
TZNAME:CET
DTSTART:20221030T010000
END:STANDARD
BEGIN:DAYLIGHT
TZOFFSETFROM:+0100
TZOFFSETTO:+0200
TZNAME:CEST
DTSTART:20230326T010000
END:DAYLIGHT
BEGIN:STANDARD
TZOFFSETFROM:+0200
TZOFFSETTO:+0100
TZNAME:CET
DTSTART:20231029T010000
END:STANDARD
BEGIN:DAYLIGHT
TZOFFSETFROM:+0100
TZOFFSETTO:+0200
TZNAME:CEST
DTSTART:20240331T010000
END:DAYLIGHT
BEGIN:STANDARD
TZOFFSETFROM:+0200
TZOFFSETTO:+0100
TZNAME:CET
DTSTART:20241027T010000
END:STANDARD
END:VTIMEZONE
BEGIN:VEVENT
DTSTART;TZID=Europe/Berlin:20230328T180000
DTEND;TZID=Europe/Berlin:20230328T193000
DTSTAMP:20260422T160046
CREATED:20230309T083644Z
LAST-MODIFIED:20230313T114946Z
UID:10000898-1680026400-1680031800@verschickungsheime.de
SUMMARY:Vortrag zur St.Peter-Ording-Studie in der Aktivenschalte (Zoom) der Initiative Verschickungskinder\, mit Prof. Dr. Peter Graeff
DESCRIPTION:Vortrag zur St. Peter-Ording Studie in der Aktivenschalte (Zoom) am 28.3.2023Jeden letzten Dienstag im Monat findet die Bundesvernetzungsrunde „Aktivenschalte“ mit öffentlichen Vorträgen statt. Am 28.3.2023 wird der Soziologe Prof. Dr. Peter Graeff von der Universität Kiel seine Studie zur Verschickung nach St. Peter Ording vorstellen\, für die er Daten aus unserer großen Verschickungskinder-Befragung ausgewertet hat. Der Vortrag ist öffentlich und findet per Zoom statt. Anmeldung und Link sind hier erhältlich: buko@verschickungsheime.de
URL:https://verschickungsheime.de/event/aktivenschalte-referat/
END:VEVENT
END:VCALENDAR