BEGIN:VCALENDAR
VERSION:2.0
PRODID:-//Verschickungsheime - ECPv6.15.20//NONSGML v1.0//EN
CALSCALE:GREGORIAN
METHOD:PUBLISH
X-ORIGINAL-URL:https://verschickungsheime.de
X-WR-CALDESC:Veranstaltungen für Verschickungsheime
REFRESH-INTERVAL;VALUE=DURATION:PT1H
X-Robots-Tag:noindex
X-PUBLISHED-TTL:PT1H
BEGIN:VTIMEZONE
TZID:Europe/Berlin
BEGIN:DAYLIGHT
TZOFFSETFROM:+0100
TZOFFSETTO:+0200
TZNAME:CEST
DTSTART:20220327T010000
END:DAYLIGHT
BEGIN:STANDARD
TZOFFSETFROM:+0200
TZOFFSETTO:+0100
TZNAME:CET
DTSTART:20221030T010000
END:STANDARD
BEGIN:DAYLIGHT
TZOFFSETFROM:+0100
TZOFFSETTO:+0200
TZNAME:CEST
DTSTART:20230326T010000
END:DAYLIGHT
BEGIN:STANDARD
TZOFFSETFROM:+0200
TZOFFSETTO:+0100
TZNAME:CET
DTSTART:20231029T010000
END:STANDARD
BEGIN:DAYLIGHT
TZOFFSETFROM:+0100
TZOFFSETTO:+0200
TZNAME:CEST
DTSTART:20240331T010000
END:DAYLIGHT
BEGIN:STANDARD
TZOFFSETFROM:+0200
TZOFFSETTO:+0100
TZNAME:CET
DTSTART:20241027T010000
END:STANDARD
END:VTIMEZONE
BEGIN:VEVENT
DTSTART;TZID=Europe/Berlin:20230416T140000
DTEND;TZID=Europe/Berlin:20230416T160000
DTSTAMP:20260422T160155
CREATED:20230326T084257Z
LAST-MODIFIED:20230326T084258Z
UID:10000912-1681653600-1681660800@verschickungsheime.de
SUMMARY:Landesgruppe Hessen trifft sich in Präsenz
DESCRIPTION:Liebe Verschickungungskinder in Marburg und Hessen: Am Sonntag\, 16. April\, trifft sich nach Corona wieder die Gruppe Verschickungskinder in Marburg. Wir freuen uns auf euch\, es ist keine Voranmeldung nötig. Kommt einfach: Um 14 Uhr im Kulturzentrum Waggonhalle Marburg\, Rudolf-BultmanLnstr. 2a in Marburg. Weitere Infos über: Verschickungsheime-hessen@mail.de
URL:https://verschickungsheime.de/event/landesgruppe-hessen-trifft-sich-in-praesenz/
END:VEVENT
END:VCALENDAR