BEGIN:VCALENDAR
VERSION:2.0
PRODID:-//Verschickungsheime - ECPv6.15.20//NONSGML v1.0//EN
CALSCALE:GREGORIAN
METHOD:PUBLISH
X-ORIGINAL-URL:https://verschickungsheime.de
X-WR-CALDESC:Veranstaltungen für Verschickungsheime
REFRESH-INTERVAL;VALUE=DURATION:PT1H
X-Robots-Tag:noindex
X-PUBLISHED-TTL:PT1H
BEGIN:VTIMEZONE
TZID:Europe/Berlin
BEGIN:DAYLIGHT
TZOFFSETFROM:+0100
TZOFFSETTO:+0200
TZNAME:CEST
DTSTART:20220327T010000
END:DAYLIGHT
BEGIN:STANDARD
TZOFFSETFROM:+0200
TZOFFSETTO:+0100
TZNAME:CET
DTSTART:20221030T010000
END:STANDARD
BEGIN:DAYLIGHT
TZOFFSETFROM:+0100
TZOFFSETTO:+0200
TZNAME:CEST
DTSTART:20230326T010000
END:DAYLIGHT
BEGIN:STANDARD
TZOFFSETFROM:+0200
TZOFFSETTO:+0100
TZNAME:CET
DTSTART:20231029T010000
END:STANDARD
BEGIN:DAYLIGHT
TZOFFSETFROM:+0100
TZOFFSETTO:+0200
TZNAME:CEST
DTSTART:20240331T010000
END:DAYLIGHT
BEGIN:STANDARD
TZOFFSETFROM:+0200
TZOFFSETTO:+0100
TZNAME:CET
DTSTART:20241027T010000
END:STANDARD
END:VTIMEZONE
BEGIN:VEVENT
DTSTART;TZID=Europe/Berlin:20230425T180000
DTEND;TZID=Europe/Berlin:20230425T190000
DTSTAMP:20260422T160059
CREATED:20230401T092018Z
LAST-MODIFIED:20230402T092340Z
UID:10000915-1682445600-1682449200@verschickungsheime.de
SUMMARY:Bundesweite Aktivenschalte\, diesmal mit Angelika Oetken zum Thema: Was gibt es für Möglichkeiten\, wenn man sexuellen Missbrauch in Verschickungsheimen erlitten hat?
DESCRIPTION:Die Aktivenschalte findet monatlich jeden letzten Dienstag im Monat statt. Diesmal mit der Referentin Angelika Oetken\, diese ist Co-Sprecherin des Betroffenenbeirates beim Fonds Sexueller Missbrauch\, einem vom Bund aufgestellten Hilfesystem für Missbrauchsopfer. Frau Oetken hat von 2013 bis 2022 in Gremien mitgearbeitet\, in denen über diese Anträge beraten und entschieden wurde. Sie wird von ihren Erfahrungen mit diesen beiden Ehrenämtern berichten und umreißen\, welche Möglichkeiten für Hilfen und Entschädigung es gibt\, wenn Menschen sexuellen Missbrauch in Verschickungsheimen erlitten haben. Angelika Oetken war bereits 2019 auf unserem ersten Fachkongress auf Sylt zu Gast\, wo sie Hinweise zu Aufklärung\, Aufarbeitung und strategischem Vorgehen gab. Anmelden und Link zuschicken lassen\, unter: buko@verschickungsheime.de
URL:https://verschickungsheime.de/event/aktivenschalte-mit-angelika-oetken/
END:VEVENT
END:VCALENDAR