BEGIN:VCALENDAR
VERSION:2.0
PRODID:-//Verschickungsheime - ECPv6.15.20//NONSGML v1.0//EN
CALSCALE:GREGORIAN
METHOD:PUBLISH
X-WR-CALNAME:Verschickungsheime
X-ORIGINAL-URL:https://verschickungsheime.de
X-WR-CALDESC:Veranstaltungen für Verschickungsheime
REFRESH-INTERVAL;VALUE=DURATION:PT1H
X-Robots-Tag:noindex
X-PUBLISHED-TTL:PT1H
BEGIN:VTIMEZONE
TZID:Europe/Berlin
BEGIN:DAYLIGHT
TZOFFSETFROM:+0100
TZOFFSETTO:+0200
TZNAME:CEST
DTSTART:20220327T010000
END:DAYLIGHT
BEGIN:STANDARD
TZOFFSETFROM:+0200
TZOFFSETTO:+0100
TZNAME:CET
DTSTART:20221030T010000
END:STANDARD
BEGIN:DAYLIGHT
TZOFFSETFROM:+0100
TZOFFSETTO:+0200
TZNAME:CEST
DTSTART:20230326T010000
END:DAYLIGHT
BEGIN:STANDARD
TZOFFSETFROM:+0200
TZOFFSETTO:+0100
TZNAME:CET
DTSTART:20231029T010000
END:STANDARD
BEGIN:DAYLIGHT
TZOFFSETFROM:+0100
TZOFFSETTO:+0200
TZNAME:CEST
DTSTART:20240331T010000
END:DAYLIGHT
BEGIN:STANDARD
TZOFFSETFROM:+0200
TZOFFSETTO:+0100
TZNAME:CET
DTSTART:20241027T010000
END:STANDARD
END:VTIMEZONE
BEGIN:VEVENT
DTSTART;TZID=Europe/Berlin:20230503T180000
DTEND;TZID=Europe/Berlin:20230503T193000
DTSTAMP:20260422T143217
CREATED:20230228T145052Z
LAST-MODIFIED:20230228T145057Z
UID:10000885-1683136800-1683142200@verschickungsheime.de
SUMMARY:Kölner Selbsthilfegruppe (Zoom)
DESCRIPTION:Die Zoom-Treffen beginnen jeweils um 18:00 Uhr und enden gegen 19:30 Uhr. \n\n\n\nUte und Angelika Freuen sich auf eure Teilnahmen..Wir freuen uns darauf\, euch bald einmal wieder zu sehen. \n\n\n\nMit herzlichen GrüßenUte und Angelika
URL:https://verschickungsheime.de/event/koelner-selbsthilfegruppe-zoom/
CATEGORIES:NRW
END:VEVENT
BEGIN:VEVENT
DTSTART;TZID=Europe/Berlin:20230503T183000
DTEND;TZID=Europe/Berlin:20230503T203000
DTSTAMP:20260422T143217
CREATED:20230418T082727Z
LAST-MODIFIED:20230418T082728Z
UID:10000761-1683138600-1683145800@verschickungsheime.de
SUMMARY:Videotreffen Rheinland- Pfalz
DESCRIPTION:
URL:https://verschickungsheime.de/event/videotreffen-rheinland-pfalz-6/
END:VEVENT
END:VCALENDAR