BEGIN:VCALENDAR
VERSION:2.0
PRODID:-//Verschickungsheime - ECPv6.15.20//NONSGML v1.0//EN
CALSCALE:GREGORIAN
METHOD:PUBLISH
X-ORIGINAL-URL:https://verschickungsheime.de
X-WR-CALDESC:Veranstaltungen für Verschickungsheime
REFRESH-INTERVAL;VALUE=DURATION:PT1H
X-Robots-Tag:noindex
X-PUBLISHED-TTL:PT1H
BEGIN:VTIMEZONE
TZID:Europe/Berlin
BEGIN:DAYLIGHT
TZOFFSETFROM:+0100
TZOFFSETTO:+0200
TZNAME:CEST
DTSTART:20220327T010000
END:DAYLIGHT
BEGIN:STANDARD
TZOFFSETFROM:+0200
TZOFFSETTO:+0100
TZNAME:CET
DTSTART:20221030T010000
END:STANDARD
BEGIN:DAYLIGHT
TZOFFSETFROM:+0100
TZOFFSETTO:+0200
TZNAME:CEST
DTSTART:20230326T010000
END:DAYLIGHT
BEGIN:STANDARD
TZOFFSETFROM:+0200
TZOFFSETTO:+0100
TZNAME:CET
DTSTART:20231029T010000
END:STANDARD
BEGIN:DAYLIGHT
TZOFFSETFROM:+0100
TZOFFSETTO:+0200
TZNAME:CEST
DTSTART:20240331T010000
END:DAYLIGHT
BEGIN:STANDARD
TZOFFSETFROM:+0200
TZOFFSETTO:+0100
TZNAME:CET
DTSTART:20241027T010000
END:STANDARD
END:VTIMEZONE
BEGIN:VEVENT
DTSTART;TZID=Europe/Berlin:20230531T183000
DTEND;TZID=Europe/Berlin:20230531T203000
DTSTAMP:20260422T132207
CREATED:20230512T133841Z
LAST-MODIFIED:20230512T133843Z
UID:10000921-1685557800-1685565000@verschickungsheime.de
SUMMARY:Videotreffen Rheinland- Pfalz
DESCRIPTION:
URL:https://verschickungsheime.de/event/videotreffen-rheinland-pfalz-7/
END:VEVENT
BEGIN:VEVENT
DTSTART;TZID=Europe/Berlin:20230531T193000
DTEND;TZID=Europe/Berlin:20230531T213000
DTSTAMP:20260422T132207
CREATED:20230521T000044Z
LAST-MODIFIED:20230521T000907Z
UID:10000922-1685561400-1685568600@verschickungsheime.de
SUMMARY:Lesung und Vortrag mit Anja Röhl aus: „Das Elend der Verschickungskinder“ in Berlin
DESCRIPTION:Am Mittwoch\, 31. Mai 2023 um 19.30 Uhr kommt die Autorin Anja Röhl in den Geschichtssalon der Historikerin Gisela Notz. Sie wird ihr Buch: Das Elend der Verschickungskinder – Kindererholungsheime als Orte der Gewalt\, vorstellen. \n\n\n\nAnja Röhl macht seit 2019 das Trauma der Verschickungskinder in der breiten Öffentlichkeit publik. Als Betroffene gründete die Sonderpädagogin\, Autorin und Malerin mit anderen ehemaligen Verschickungskindern die Initiative gleichen Namens. Mit ihrem Buch beschreibt Anja\, die auch zahlreiche andere Publikationen geschrieben hat\, die oft lebenslangen Auswirkungen der von Verschickung Betroffenen\, aber auch die ersten Schritte der Aufarbeitung. Das Thema ist in der Zwischenzeit u.a. von der Bundeszentrale für politische Bildung\, von Medien und von der Politik aufgenommen worden. Es betrifft nicht nur die (ehemaligen) Kinder selbst\, sondern es ist ein gesellschaftliches Problem\, denn es zeigt auch\, wie längst überholt geglaubte historische Kontinuitäten bis heute wirken. Wir freuen uns sehr\, dass wir Anja Röhl für diesen Abend gewinnen konnten. Die Einladung kann gerne weitergegeben werden. Eine Anmeldung ist nicht erforderlich. Der Eintritt ist frei\, Spenden für die Autorin nehmen wir gerne entgegen. Das Buch kann nach der Veranstaltung erworben werden. \n\n\n\nIm Geschichtssalon von Gisela Notz: Erkelenzdamm 51\, 10999 Berlin\, Gemeinschaftsraum.
URL:https://verschickungsheime.de/event/lesung-aus-das-elend-der-verschickungskinder-in-berlin-bei-gisela-notz/
END:VEVENT
END:VCALENDAR