BEGIN:VCALENDAR
VERSION:2.0
PRODID:-//Verschickungsheime - ECPv6.15.20//NONSGML v1.0//EN
CALSCALE:GREGORIAN
METHOD:PUBLISH
X-ORIGINAL-URL:https://verschickungsheime.de
X-WR-CALDESC:Veranstaltungen für Verschickungsheime
REFRESH-INTERVAL;VALUE=DURATION:PT1H
X-Robots-Tag:noindex
X-PUBLISHED-TTL:PT1H
BEGIN:VTIMEZONE
TZID:Europe/Berlin
BEGIN:DAYLIGHT
TZOFFSETFROM:+0100
TZOFFSETTO:+0200
TZNAME:CEST
DTSTART:20220327T010000
END:DAYLIGHT
BEGIN:STANDARD
TZOFFSETFROM:+0200
TZOFFSETTO:+0100
TZNAME:CET
DTSTART:20221030T010000
END:STANDARD
BEGIN:DAYLIGHT
TZOFFSETFROM:+0100
TZOFFSETTO:+0200
TZNAME:CEST
DTSTART:20230326T010000
END:DAYLIGHT
BEGIN:STANDARD
TZOFFSETFROM:+0200
TZOFFSETTO:+0100
TZNAME:CET
DTSTART:20231029T010000
END:STANDARD
BEGIN:DAYLIGHT
TZOFFSETFROM:+0100
TZOFFSETTO:+0200
TZNAME:CEST
DTSTART:20240331T010000
END:DAYLIGHT
BEGIN:STANDARD
TZOFFSETFROM:+0200
TZOFFSETTO:+0100
TZNAME:CET
DTSTART:20241027T010000
END:STANDARD
END:VTIMEZONE
BEGIN:VEVENT
DTSTART;TZID=Europe/Berlin:20230608T081500
DTEND;TZID=Europe/Berlin:20230608T100000
DTSTAMP:20260422T132210
CREATED:20230605T204206Z
LAST-MODIFIED:20230608T100245Z
UID:10000930-1686212100-1686218400@verschickungsheime.de
SUMMARY:Vortrag und Lesung mit Anja Röhl in Kiel
DESCRIPTION:Am 8.6.23 kommt die Autorin Anja Röhl nach KIEL. Am Vormittag des 8.6.23 ist sie in die Kieler Universität zu einer Vorlesung vor Studierenden des Historischen Instituts der CAU eingeladen. Die Veranstaltung am Nachmittag des 8.6.23 fällt leider aus wegen Krankheit  \n\n\n\nAnja Röhl wird ihr Buch: Das Elend der Verschickungskinder – Kindererholungsheime als Orte der Gewalt\, vorstellen und aus Interviews des Buches: Heimweh-Verschickungskinder erzählen\, lesen. \n\n\n\nAnja Röhl macht seit 2019 das Trauma der Verschickungskinder in der breiten Öffentlichkeit publik. Die Buchautorin und Wissenschaftlerin gründete als Betroffene mit anderen ehemaligen Verschickungskindern die Initiative gleichen Namens. Mit ihrem Buch beschreibt Anja\, die auch zahlreiche andere Publikationen geschrieben hat\, die oft lebenslangen Auswirkungen der von Verschickung Betroffenen\, aber auch die ersten Schritte der Aufarbeitung. Das Thema ist in der Zwischenzeit u.a. von der Bundeszentrale für politische Bildung\, von Medien und von der Politik aufgenommen worden. Es betrifft nicht nur die (ehemaligen) Kinder selbst\, sondern es ist ein gesellschaftliches Problem\, denn es zeigt auch\, wie längst überholt geglaubte historische Kontinuitäten bis heute wirken. \n\n\n\nPressemitteilung \n\n\n\nAnmeldungen nicht nötig\, aber Fragen dazu gern an: 0176-24324947
URL:https://verschickungsheime.de/event/vortrag-und-lesung-in-kiel/
END:VEVENT
END:VCALENDAR