BEGIN:VCALENDAR
VERSION:2.0
PRODID:-//Verschickungsheime - ECPv6.15.20//NONSGML v1.0//EN
CALSCALE:GREGORIAN
METHOD:PUBLISH
X-WR-CALNAME:Verschickungsheime
X-ORIGINAL-URL:https://verschickungsheime.de
X-WR-CALDESC:Veranstaltungen für Verschickungsheime
REFRESH-INTERVAL;VALUE=DURATION:PT1H
X-Robots-Tag:noindex
X-PUBLISHED-TTL:PT1H
BEGIN:VTIMEZONE
TZID:Europe/Berlin
BEGIN:DAYLIGHT
TZOFFSETFROM:+0100
TZOFFSETTO:+0200
TZNAME:CEST
DTSTART:20220327T010000
END:DAYLIGHT
BEGIN:STANDARD
TZOFFSETFROM:+0200
TZOFFSETTO:+0100
TZNAME:CET
DTSTART:20221030T010000
END:STANDARD
BEGIN:DAYLIGHT
TZOFFSETFROM:+0100
TZOFFSETTO:+0200
TZNAME:CEST
DTSTART:20230326T010000
END:DAYLIGHT
BEGIN:STANDARD
TZOFFSETFROM:+0200
TZOFFSETTO:+0100
TZNAME:CET
DTSTART:20231029T010000
END:STANDARD
BEGIN:DAYLIGHT
TZOFFSETFROM:+0100
TZOFFSETTO:+0200
TZNAME:CEST
DTSTART:20240331T010000
END:DAYLIGHT
BEGIN:STANDARD
TZOFFSETFROM:+0200
TZOFFSETTO:+0100
TZNAME:CET
DTSTART:20241027T010000
END:STANDARD
END:VTIMEZONE
BEGIN:VEVENT
DTSTART;TZID=Europe/Berlin:20230609T190000
DTEND;TZID=Europe/Berlin:20230609T210000
DTSTAMP:20260422T131953
CREATED:20230602T091331Z
LAST-MODIFIED:20230605T214659Z
UID:10000928-1686337200-1686344400@verschickungsheime.de
SUMMARY:Abendveranstaltung: Vortrag und Lesung mit Anja Röhl in Kiel
DESCRIPTION:Am Abend des 9. 6.23 um 19 Uhr wird Anja Röhl in der Geschäftsstelle des LandesFrauenRates Schleswig-Holstein\, Auguste-Viktoria-Straße 16\, 24103 Kiel sein und zum Thema: Gewalt in Verschickungsheimen sprechen und mit Interessierten diskutieren.  \n\n\n\nAchtung! der Raum ist nicht barrierefrei\, ist aber mit einem Fahrstuhl zu erreichen und bis auf zwei ca. 1 cm hohe Absätze ebenerdig. Barrierefreie Toiletten gibt es leider keine\, sorry. \n\n\n\nAnja Röhl wird ihr Buch: Das Elend der Verschickungskinder – Kindererholungsheime als Orte der Gewalt\, vorstellen und aus Interviews des Buches: Heimweh-Verschickungskinder erzählen\, lesen. \n\n\n\nAnja Röhl macht seit 2019 das Trauma der Verschickungskinder in der breiten Öffentlichkeit publik. Die Buchautorin und Wissenschaftlerin gründete als Betroffene mit anderen ehemaligen Verschickungskindern die Initiative gleichen Namens. Mit ihrem Buch beschreibt Anja\, die auch zahlreiche andere Publikationen geschrieben hat\, die oft lebenslangen Auswirkungen der von Verschickung Betroffenen\, aber auch die ersten Schritte der Aufarbeitung. Das Thema ist in der Zwischenzeit u.a. von der Bundeszentrale für politische Bildung\, von Medien und von der Politik aufgenommen worden. Es betrifft nicht nur die (ehemaligen) Kinder selbst\, sondern es ist ein gesellschaftliches Problem\, denn es zeigt auch\, wie längst überholt geglaubte historische Kontinuitäten bis heute wirken. \n\n\n\nPressemitteilung \n\n\n\nAnmeldungen nicht nötig\, aber Fragen dazu gern an: 0176-24324947
URL:https://verschickungsheime.de/event/vortrag-und-lesung-mit-anja-roehl-in-kiel/
END:VEVENT
END:VCALENDAR