BEGIN:VCALENDAR
VERSION:2.0
PRODID:-//Verschickungsheime - ECPv6.15.20//NONSGML v1.0//EN
CALSCALE:GREGORIAN
METHOD:PUBLISH
X-WR-CALNAME:Verschickungsheime
X-ORIGINAL-URL:https://verschickungsheime.de
X-WR-CALDESC:Veranstaltungen für Verschickungsheime
REFRESH-INTERVAL;VALUE=DURATION:PT1H
X-Robots-Tag:noindex
X-PUBLISHED-TTL:PT1H
BEGIN:VTIMEZONE
TZID:Europe/Berlin
BEGIN:DAYLIGHT
TZOFFSETFROM:+0100
TZOFFSETTO:+0200
TZNAME:CEST
DTSTART:20220327T010000
END:DAYLIGHT
BEGIN:STANDARD
TZOFFSETFROM:+0200
TZOFFSETTO:+0100
TZNAME:CET
DTSTART:20221030T010000
END:STANDARD
BEGIN:DAYLIGHT
TZOFFSETFROM:+0100
TZOFFSETTO:+0200
TZNAME:CEST
DTSTART:20230326T010000
END:DAYLIGHT
BEGIN:STANDARD
TZOFFSETFROM:+0200
TZOFFSETTO:+0100
TZNAME:CET
DTSTART:20231029T010000
END:STANDARD
BEGIN:DAYLIGHT
TZOFFSETFROM:+0100
TZOFFSETTO:+0200
TZNAME:CEST
DTSTART:20240331T010000
END:DAYLIGHT
BEGIN:STANDARD
TZOFFSETFROM:+0200
TZOFFSETTO:+0100
TZNAME:CET
DTSTART:20241027T010000
END:STANDARD
END:VTIMEZONE
BEGIN:VEVENT
DTSTART;TZID=Europe/Berlin:20230615T183000
DTEND;TZID=Europe/Berlin:20230615T200000
DTSTAMP:20260422T131155
CREATED:20230524T144454Z
LAST-MODIFIED:20230524T144833Z
UID:10000925-1686853800-1686859200@verschickungsheime.de
SUMMARY:12. Borkum - Austauschgruppe
DESCRIPTION:
URL:https://verschickungsheime.de/event/12-borkum-austauschgruppe/
END:VEVENT
BEGIN:VEVENT
DTSTART;TZID=Europe/Berlin:20230615T190000
DTEND;TZID=Europe/Berlin:20230615T200000
DTSTAMP:20260422T131155
CREATED:20230526T203718Z
LAST-MODIFIED:20230613T093959Z
UID:10000926-1686855600-1686859200@verschickungsheime.de
SUMMARY:Berliner Gruppe Verschickungskinder
DESCRIPTION:In Berlin treffen sich aktive Verschickungskinder\, die etwas bewegen wollen\, damit endlich auch alle Betroffenen aus Berlin davon erfahren\, dass sich Verschickungskinder gemeinsam in Selbsthilfe organisieren. Wir planen Veranstaltungen durchzuführen\, Aktionen zu organisieren\, Betroffene und ihre Geschichten zu sammeln\, einander zuzuhören. Ziel: Aufmerksamkeit auf das Thema der Gewalt in den Institutionen der Verschickungsindustrie zu lenken und zu erreichen\, dass sich auch die Bundespolitik um unser Thema kümmert. Jeden dritten Donnerstag im Monat treffen wir uns im Sekis e.V. um 19 Uhr\, Bismarkstraße 101\, U-Bhf. Deutsche Oper\, Hinterausgang. Einfach vorbeikommen\, keine Anmeldung nötig. Nachfragen am Tag des Treffens über: 0176-24324947
URL:https://verschickungsheime.de/event/berliner-gruppe-verschickungskinder-3/
END:VEVENT
END:VCALENDAR