BEGIN:VCALENDAR
VERSION:2.0
PRODID:-//Verschickungsheime - ECPv6.15.20//NONSGML v1.0//EN
CALSCALE:GREGORIAN
METHOD:PUBLISH
X-ORIGINAL-URL:https://verschickungsheime.de
X-WR-CALDESC:Veranstaltungen für Verschickungsheime
REFRESH-INTERVAL;VALUE=DURATION:PT1H
X-Robots-Tag:noindex
X-PUBLISHED-TTL:PT1H
BEGIN:VTIMEZONE
TZID:Europe/Berlin
BEGIN:DAYLIGHT
TZOFFSETFROM:+0100
TZOFFSETTO:+0200
TZNAME:CEST
DTSTART:20220327T010000
END:DAYLIGHT
BEGIN:STANDARD
TZOFFSETFROM:+0200
TZOFFSETTO:+0100
TZNAME:CET
DTSTART:20221030T010000
END:STANDARD
BEGIN:DAYLIGHT
TZOFFSETFROM:+0100
TZOFFSETTO:+0200
TZNAME:CEST
DTSTART:20230326T010000
END:DAYLIGHT
BEGIN:STANDARD
TZOFFSETFROM:+0200
TZOFFSETTO:+0100
TZNAME:CET
DTSTART:20231029T010000
END:STANDARD
BEGIN:DAYLIGHT
TZOFFSETFROM:+0100
TZOFFSETTO:+0200
TZNAME:CEST
DTSTART:20240331T010000
END:DAYLIGHT
BEGIN:STANDARD
TZOFFSETFROM:+0200
TZOFFSETTO:+0100
TZNAME:CET
DTSTART:20241027T010000
END:STANDARD
END:VTIMEZONE
BEGIN:VEVENT
DTSTART;TZID=Europe/Berlin:20230627T180000
DTEND;TZID=Europe/Berlin:20230627T193000
DTSTAMP:20260422T120430
CREATED:20230610T140955Z
LAST-MODIFIED:20230610T141440Z
UID:10000931-1687888800-1687894200@verschickungsheime.de
SUMMARY:Bundesweite Aktivenschalte: Thema Traumabewältigung
DESCRIPTION:Tipps und Ideen zur Traumabewältigung im Falle der Verschickung\, von Diana Mehmel\, Betroffene von Kinderverschickung\, Koordinierende der DDR-Kurkinder\, Traumatherapeutin. Die Veranstaltung läuft über Zoom\, es sind alle Funktionsträger und -Trägerinnen\, und alle\, die gern bei uns aktiv werden wollen\, aber auch neue Interessierte\, allerherzlichst eingeladen\, Anmeldung über: buko@verschickungsheime.de
URL:https://verschickungsheime.de/event/bundesweite-aktivenschalte-thema-traumabewaeltigung/
END:VEVENT
END:VCALENDAR