BEGIN:VCALENDAR
VERSION:2.0
PRODID:-//Verschickungsheime - ECPv6.15.20//NONSGML v1.0//EN
CALSCALE:GREGORIAN
METHOD:PUBLISH
X-WR-CALNAME:Verschickungsheime
X-ORIGINAL-URL:https://verschickungsheime.de
X-WR-CALDESC:Veranstaltungen für Verschickungsheime
REFRESH-INTERVAL;VALUE=DURATION:PT1H
X-Robots-Tag:noindex
X-PUBLISHED-TTL:PT1H
BEGIN:VTIMEZONE
TZID:Europe/Berlin
BEGIN:DAYLIGHT
TZOFFSETFROM:+0100
TZOFFSETTO:+0200
TZNAME:CEST
DTSTART:20220327T010000
END:DAYLIGHT
BEGIN:STANDARD
TZOFFSETFROM:+0200
TZOFFSETTO:+0100
TZNAME:CET
DTSTART:20221030T010000
END:STANDARD
BEGIN:DAYLIGHT
TZOFFSETFROM:+0100
TZOFFSETTO:+0200
TZNAME:CEST
DTSTART:20230326T010000
END:DAYLIGHT
BEGIN:STANDARD
TZOFFSETFROM:+0200
TZOFFSETTO:+0100
TZNAME:CET
DTSTART:20231029T010000
END:STANDARD
BEGIN:DAYLIGHT
TZOFFSETFROM:+0100
TZOFFSETTO:+0200
TZNAME:CEST
DTSTART:20240331T010000
END:DAYLIGHT
BEGIN:STANDARD
TZOFFSETFROM:+0200
TZOFFSETTO:+0100
TZNAME:CET
DTSTART:20241027T010000
END:STANDARD
END:VTIMEZONE
BEGIN:VEVENT
DTSTART;TZID=Europe/Berlin:20230725T180000
DTEND;TZID=Europe/Berlin:20230725T190000
DTSTAMP:20260422T122329
CREATED:20230714T084819Z
LAST-MODIFIED:20230714T090224Z
UID:10000941-1690308000-1690311600@verschickungsheime.de
SUMMARY:Aktivenschalte im Juli fällt aus ( Sommerpause)
DESCRIPTION:Die Aktivenschalte im Juli muss wegen Sommerpause leider ausfallen\, bitte habt Verständnis\, danke! Im August geht es weiter\, dann mit einer Einführung von Uwe Rüddenklau\, dem Vorsitzenden des neuen Vereins\, und einem Vortrag von Christian Fritsch aus NRW\, mit Tipps\, wie man sich als eine mögliche Landesgruppe der Initiative Verschickungskinder eine Unterstützung vom Land organisieren kann. Wir wünschen euch einen schönen Sommer\, \n\n\n\nAnja und Jan von der Webseite und Renate\, Uwe und Stefan\, die Vorsitzenden der neu gegründeten Initiative Verschickungskinder e.V.
URL:https://verschickungsheime.de/event/aktivenschalte-im-juli-faellt-aus-sommerpause/
END:VEVENT
END:VCALENDAR