BEGIN:VCALENDAR
VERSION:2.0
PRODID:-//Verschickungsheime - ECPv6.15.20//NONSGML v1.0//EN
CALSCALE:GREGORIAN
METHOD:PUBLISH
X-WR-CALNAME:Verschickungsheime
X-ORIGINAL-URL:https://verschickungsheime.de
X-WR-CALDESC:Veranstaltungen für Verschickungsheime
REFRESH-INTERVAL;VALUE=DURATION:PT1H
X-Robots-Tag:noindex
X-PUBLISHED-TTL:PT1H
BEGIN:VTIMEZONE
TZID:Europe/Berlin
BEGIN:DAYLIGHT
TZOFFSETFROM:+0100
TZOFFSETTO:+0200
TZNAME:CEST
DTSTART:20220327T010000
END:DAYLIGHT
BEGIN:STANDARD
TZOFFSETFROM:+0200
TZOFFSETTO:+0100
TZNAME:CET
DTSTART:20221030T010000
END:STANDARD
BEGIN:DAYLIGHT
TZOFFSETFROM:+0100
TZOFFSETTO:+0200
TZNAME:CEST
DTSTART:20230326T010000
END:DAYLIGHT
BEGIN:STANDARD
TZOFFSETFROM:+0200
TZOFFSETTO:+0100
TZNAME:CET
DTSTART:20231029T010000
END:STANDARD
BEGIN:DAYLIGHT
TZOFFSETFROM:+0100
TZOFFSETTO:+0200
TZNAME:CEST
DTSTART:20240331T010000
END:DAYLIGHT
BEGIN:STANDARD
TZOFFSETFROM:+0200
TZOFFSETTO:+0100
TZNAME:CET
DTSTART:20241027T010000
END:STANDARD
END:VTIMEZONE
BEGIN:VEVENT
DTSTART;TZID=Europe/Berlin:20230810T180000
DTEND;TZID=Europe/Berlin:20230810T193000
DTSTAMP:20260422T104240
CREATED:20230522T155534Z
LAST-MODIFIED:20230718T144859Z
UID:10000923-1691690400-1691695800@verschickungsheime.de
SUMMARY:9. Onlinetreffen der Wyk - Austauschgruppe
DESCRIPTION:Die Wyk – Austauschgruppe ist ein Zusammenschluss von Verschickungskindern oder Angehörigen\, die auf die Insel Föhr verschickt wurden. Sie wird derzeit von Stefan\, einem Angehörigen\, als HOK betreut. \n\n\n\nMittlerweile sind über 60 Mitglieder in der Gruppe. \n\n\n\nAlle haben sich verpflichtet\, über die ihnen bekannten persönlichen Daten der Gruppenmitglieder nur in der Gruppe zu sprechen! Für Nicht – Gruppenmitglieder sind diese Daten tabu. \n\n\n\nWir veranstalten regelmäßig Zoomtreffen und teilen unsere Erlebnisse und Erfahrungen und tauschen uns über Rechercheergebnisse aus. Derzeit planen wir eine gemeinsame Reise nach Wyk\, die voraussichtlich im Frühjahr 2024 stattfinden wird. \n\n\n\nWer an einem Zoom – Treffen teilnehmen möchte\, wendet sich rechtzeitig vorher an Wyk@Verschickungsheime.de
URL:https://verschickungsheime.de/event/9-onlinetreffen-der-wyk-austauschgruppe/
CATEGORIES:Schleswig-Holstein
END:VEVENT
BEGIN:VEVENT
DTSTART;TZID=Europe/Berlin:20230810T183000
DTEND;TZID=Europe/Berlin:20230810T200000
DTSTAMP:20260422T104240
CREATED:20230618T094145Z
LAST-MODIFIED:20230718T143420Z
UID:10000936-1691692200-1691697600@verschickungsheime.de
SUMMARY:13. Borkum - Austauschgruppe
DESCRIPTION:Die Borkumaustauschgruppe wurde im November 2021 auf dem 3. Fachkongress „Das Elend der Verschickungskinder “ von den HOKS Silke\, Regina und Uwe ins Leben gerufen.Mittlerweile sind über 65 Mitglieder dabei\, die alle in Borkumer Heime verschickt waren.Wir veranstalten regelmäßig Zoomtreffen und teilen unsere Erlebnisse\, Erfahrungen und tauschen uns über Rechercheergebnisse aus.Gern könnt Ihr dabei sein. Wir freuen uns darauf Euch kennenzulernen.Bitte schreibt an borkum@verschickungsheime.de
URL:https://verschickungsheime.de/event/13-borkum-austauschgruppe/
CATEGORIES:Niedersachsen
END:VEVENT
END:VCALENDAR