BEGIN:VCALENDAR
VERSION:2.0
PRODID:-//Verschickungsheime - ECPv6.15.20//NONSGML v1.0//EN
CALSCALE:GREGORIAN
METHOD:PUBLISH
X-ORIGINAL-URL:https://verschickungsheime.de
X-WR-CALDESC:Veranstaltungen für Verschickungsheime
REFRESH-INTERVAL;VALUE=DURATION:PT1H
X-Robots-Tag:noindex
X-PUBLISHED-TTL:PT1H
BEGIN:VTIMEZONE
TZID:Europe/Berlin
BEGIN:DAYLIGHT
TZOFFSETFROM:+0100
TZOFFSETTO:+0200
TZNAME:CEST
DTSTART:20220327T010000
END:DAYLIGHT
BEGIN:STANDARD
TZOFFSETFROM:+0200
TZOFFSETTO:+0100
TZNAME:CET
DTSTART:20221030T010000
END:STANDARD
BEGIN:DAYLIGHT
TZOFFSETFROM:+0100
TZOFFSETTO:+0200
TZNAME:CEST
DTSTART:20230326T010000
END:DAYLIGHT
BEGIN:STANDARD
TZOFFSETFROM:+0200
TZOFFSETTO:+0100
TZNAME:CET
DTSTART:20231029T010000
END:STANDARD
BEGIN:DAYLIGHT
TZOFFSETFROM:+0100
TZOFFSETTO:+0200
TZNAME:CEST
DTSTART:20240331T010000
END:DAYLIGHT
BEGIN:STANDARD
TZOFFSETFROM:+0200
TZOFFSETTO:+0100
TZNAME:CET
DTSTART:20241027T010000
END:STANDARD
END:VTIMEZONE
BEGIN:VEVENT
DTSTART;TZID=Europe/Berlin:20230814T170000
DTEND;TZID=Europe/Berlin:20230814T190000
DTSTAMP:20260422T104559
CREATED:20230729T110541Z
LAST-MODIFIED:20230729T111334Z
UID:10000945-1692032400-1692039600@verschickungsheime.de
SUMMARY:Verschickungskindertreffen in Rendsburg
DESCRIPTION:Aus Norddeutschland sind Kinder in den Süden Deutschlands verschickt worden und umgekehrt. Ehemalige Verschickungskinder und Interessierte am Thema\, aus Rendsburg und Umgebung\, sind herzlich eingeladen\, am Montag\, den 14.8. um 17 Uhr in die Räume von Kibis e.V. (Kontaktstelle für Selbsthilfegruppen)\, Ahlmannstraße 2 a\, 24768 Rendsburg zu kommen. Kontakt über Susanne Speck: susspeck@gmail.com
URL:https://verschickungsheime.de/event/verschickungskindertreffen-in-rendsburg/
END:VEVENT
END:VCALENDAR