BEGIN:VCALENDAR
VERSION:2.0
PRODID:-//Verschickungsheime - ECPv6.15.20//NONSGML v1.0//EN
CALSCALE:GREGORIAN
METHOD:PUBLISH
X-WR-CALNAME:Verschickungsheime
X-ORIGINAL-URL:https://verschickungsheime.de
X-WR-CALDESC:Veranstaltungen für Verschickungsheime
REFRESH-INTERVAL;VALUE=DURATION:PT1H
X-Robots-Tag:noindex
X-PUBLISHED-TTL:PT1H
BEGIN:VTIMEZONE
TZID:Europe/Berlin
BEGIN:DAYLIGHT
TZOFFSETFROM:+0100
TZOFFSETTO:+0200
TZNAME:CEST
DTSTART:20220327T010000
END:DAYLIGHT
BEGIN:STANDARD
TZOFFSETFROM:+0200
TZOFFSETTO:+0100
TZNAME:CET
DTSTART:20221030T010000
END:STANDARD
BEGIN:DAYLIGHT
TZOFFSETFROM:+0100
TZOFFSETTO:+0200
TZNAME:CEST
DTSTART:20230326T010000
END:DAYLIGHT
BEGIN:STANDARD
TZOFFSETFROM:+0200
TZOFFSETTO:+0100
TZNAME:CET
DTSTART:20231029T010000
END:STANDARD
BEGIN:DAYLIGHT
TZOFFSETFROM:+0100
TZOFFSETTO:+0200
TZNAME:CEST
DTSTART:20240331T010000
END:DAYLIGHT
BEGIN:STANDARD
TZOFFSETFROM:+0200
TZOFFSETTO:+0100
TZNAME:CET
DTSTART:20241027T010000
END:STANDARD
END:VTIMEZONE
BEGIN:VEVENT
DTSTART;TZID=Europe/Berlin:20230829T180000
DTEND;TZID=Europe/Berlin:20230829T193000
DTSTAMP:20260420T114528
CREATED:20230728T074304Z
LAST-MODIFIED:20230810T113706Z
UID:10000943-1693332000-1693337400@verschickungsheime.de
SUMMARY:Aktivenschalte mit Christian Fritsch
DESCRIPTION:Jeden Monat treffen sich Interessierte am Thema\, die aktiv werden wollen. Wir haben Landeskoordinations-\, Heimortkoordinations-\, trägerspezifische\, Selbsthilfe-\, Erinnerungsaustausch-Gruppen\, und Landesvereine zur Aufarbeitung Kinderverschickung. Betroffene Einzelpersonen und Gruppen in der „Initiative Verschickungskinder“ sind eingeladen zur Aktivenschalte zu kommen \n\n\n\n \n\n\n\nThemen: Christian Fritsch\, wissenschaftlicher Mitarbeiter / Referent\, Ministerium für Arbeit\, Integration und Soziales des Landes Nordrhein-Westfalen lädt zu einem Austausch ein. Er möchte Betroffene von Kinderverschickung ermutigen und unterstützen\, er wird sich speziell zum Thema äußern: Wie kann Aufarbeitung zwischen Betroffenen und Land erfolgreich gestaltet werden?   \n\n\n\nDanach wird Uwe Rüddenklau einen kurzen Einführungsvortrag zum Thema: Warum ein Bundesverein? halten. \n\n\n\nWir wenden uns mit diesem Thema speziell an die LKs\, an die Landesgruppen und Landesvereine\, trotzdem ist natürlich jeder willkommen\, den Link zur Schalte kann man hier anfordern: buko@verschickungsheime.de
URL:https://verschickungsheime.de/event/aktivenschalte-5/
END:VEVENT
END:VCALENDAR