BEGIN:VCALENDAR
VERSION:2.0
PRODID:-//Verschickungsheime - ECPv6.15.20//NONSGML v1.0//EN
CALSCALE:GREGORIAN
METHOD:PUBLISH
X-ORIGINAL-URL:https://verschickungsheime.de
X-WR-CALDESC:Veranstaltungen für Verschickungsheime
REFRESH-INTERVAL;VALUE=DURATION:PT1H
X-Robots-Tag:noindex
X-PUBLISHED-TTL:PT1H
BEGIN:VTIMEZONE
TZID:Europe/Berlin
BEGIN:DAYLIGHT
TZOFFSETFROM:+0100
TZOFFSETTO:+0200
TZNAME:CEST
DTSTART:20220327T010000
END:DAYLIGHT
BEGIN:STANDARD
TZOFFSETFROM:+0200
TZOFFSETTO:+0100
TZNAME:CET
DTSTART:20221030T010000
END:STANDARD
BEGIN:DAYLIGHT
TZOFFSETFROM:+0100
TZOFFSETTO:+0200
TZNAME:CEST
DTSTART:20230326T010000
END:DAYLIGHT
BEGIN:STANDARD
TZOFFSETFROM:+0200
TZOFFSETTO:+0100
TZNAME:CET
DTSTART:20231029T010000
END:STANDARD
BEGIN:DAYLIGHT
TZOFFSETFROM:+0100
TZOFFSETTO:+0200
TZNAME:CEST
DTSTART:20240331T010000
END:DAYLIGHT
BEGIN:STANDARD
TZOFFSETFROM:+0200
TZOFFSETTO:+0100
TZNAME:CET
DTSTART:20241027T010000
END:STANDARD
END:VTIMEZONE
BEGIN:VEVENT
DTSTART;TZID=Europe/Berlin:20230920T183000
DTEND;TZID=Europe/Berlin:20230920T200000
DTSTAMP:20260420T115703
CREATED:20230912T133851Z
LAST-MODIFIED:20230912T170444Z
UID:10000808-1695234600-1695240000@verschickungsheime.de
SUMMARY:Berliner Gruppe Verschickungskinder
DESCRIPTION:Die Berliner Gruppe Verschickungskinder trifft sich diesmal im Sekis e.V. schon am Mittwoch\, 20.9.23 um 18.30 Uhr\, da der Raum\, den wir Donnerstags immer hatten\, anderweitig vergeben ist. Der Termin im Oktober muss daher leider entfallen\, oder findet im La Batea statt\, wenn viele Interesse haben. Unser Termin wird dann ab November wieder neu beginnen und immer der erste Montag im Monat sein. Wir hoffen\, ihr könnt da auch. Wir freuen uns auf euch! Berliner Gruppe Verschickungskinder im Sekis e.V.\, Bismarkstraße 101\, in Berlin-Charlottenburg. Anmelden und Kontakt: berlin@verschickungsheime.de
URL:https://verschickungsheime.de/event/berliner-gruppe-verschickungskinder-6/
END:VEVENT
END:VCALENDAR