BEGIN:VCALENDAR
VERSION:2.0
PRODID:-//Verschickungsheime - ECPv6.15.20//NONSGML v1.0//EN
CALSCALE:GREGORIAN
METHOD:PUBLISH
X-WR-CALNAME:Verschickungsheime
X-ORIGINAL-URL:https://verschickungsheime.de
X-WR-CALDESC:Veranstaltungen für Verschickungsheime
REFRESH-INTERVAL;VALUE=DURATION:PT1H
X-Robots-Tag:noindex
X-PUBLISHED-TTL:PT1H
BEGIN:VTIMEZONE
TZID:Europe/Berlin
BEGIN:DAYLIGHT
TZOFFSETFROM:+0100
TZOFFSETTO:+0200
TZNAME:CEST
DTSTART:20220327T010000
END:DAYLIGHT
BEGIN:STANDARD
TZOFFSETFROM:+0200
TZOFFSETTO:+0100
TZNAME:CET
DTSTART:20221030T010000
END:STANDARD
BEGIN:DAYLIGHT
TZOFFSETFROM:+0100
TZOFFSETTO:+0200
TZNAME:CEST
DTSTART:20230326T010000
END:DAYLIGHT
BEGIN:STANDARD
TZOFFSETFROM:+0200
TZOFFSETTO:+0100
TZNAME:CET
DTSTART:20231029T010000
END:STANDARD
BEGIN:DAYLIGHT
TZOFFSETFROM:+0100
TZOFFSETTO:+0200
TZNAME:CEST
DTSTART:20240331T010000
END:DAYLIGHT
BEGIN:STANDARD
TZOFFSETFROM:+0200
TZOFFSETTO:+0100
TZNAME:CET
DTSTART:20241027T010000
END:STANDARD
END:VTIMEZONE
BEGIN:VEVENT
DTSTART;TZID=Europe/Berlin:20231014T100000
DTEND;TZID=Europe/Berlin:20231014T180000
DTSTAMP:20260420T114614
CREATED:20230614T064248Z
LAST-MODIFIED:20230915T115025Z
UID:10000934-1697277600-1697306400@verschickungsheime.de
SUMMARY:Begegnungstag Kinderverschickungen NRW
DESCRIPTION:Aufarbeitung Kinderverschickungen NRW lädt ein:Liebe Verschickungskinder\, liebe Vereinsmitglieder\, \n\n\n\nnach unzähligen Videotreffen haben wir endlich die Gelegenheit\, uns persönlich kennenzulernen! \n\n\n\nWir freuen uns sehr darauf und laden herzlich ein zum:Gemeinsamen Begegnungstag am 14.10.2023 im Treffpunkt Altstadt\, Auf der Bovenhorst 9\, 46282 Dorsten. Mit viel Raum für Gespräche und Austausch. An einem schönen Ort.Wir planen einen abwechslungsreichen Tag\, bei dem ihr im Mittelpunkt steht. Ein spannendes Programmangebot gibt es auch. \n\n\n\nMit dabei: \n\n\n\nStefan Spieker\, unser Trainer für Positive Psychologie\, Life-Coach und Erlebnispädagoge. Er wird einen seiner mitreißenden Workshops anbieten und setzt Impulse für Lebenszufriedenheit und Gesundheitsförderung. \n\n\n\nCarmen Behrendt\, unsere Historikerin. Einige von euch kennen sie durch Einzelberatungen für die Archivarbeit oder den Austausch im Recherchenteam. Sie wird von ihrer Forschung berichten und Recherchentipps geben. \n\n\n\nProf. Nando Belardi. Experte für Selbsthilfegruppen und selbst Betroffener. Er wird gesellschaftspolitischen Input zur Pädagogik der Verschickungszeit geben und Tipps für Selbsthilfegruppen anbieten. \n\n\n\nWeitere spannende Angebote sind angefragt. \n\n\n\nWir informieren euch über den aktuellen Stand der Aufarbeitung\, ihr könnt an Workshops teilnehmen\, gemütlich zusammen Kaffeetrinken und Klönen….und es gibt auch noch einige programmliche Überraschungen! \n\n\n\nFür Verpflegung ist gesorgt. \n\n\n\nEinkommensschwachen Betroffenen werden auf Anfrage die Reisekosten erstattet\, maximal in Höhe des D-Tickets.Die Verkehrsanbindung ist perfekt\, Bahnhof und Busbahnhof sind 100 Meter vom Altstadttreff entfernt\, Parkplätze befinden sich vor der Tür. \n\n\n\nSeid ihr dabei? Hoffentlich! \n\n\n\nAnmeldungen bitte an: projekt@akv-nrw.deStichwort: Begegnungstag.
URL:https://verschickungsheime.de/event/erlebnistag-kinderverschickungen-nrw/
CATEGORIES:NRW
ATTACH;FMTTYPE=image/jpeg:https://verschickungsheime.de/wp-content/uploads/2023/06/353765809_6457566927666116_2668759487774733238_n.jpg
END:VEVENT
END:VCALENDAR