BEGIN:VCALENDAR
VERSION:2.0
PRODID:-//Verschickungsheime - ECPv6.15.20//NONSGML v1.0//EN
CALSCALE:GREGORIAN
METHOD:PUBLISH
X-ORIGINAL-URL:https://verschickungsheime.de
X-WR-CALDESC:Veranstaltungen für Verschickungsheime
REFRESH-INTERVAL;VALUE=DURATION:PT1H
X-Robots-Tag:noindex
X-PUBLISHED-TTL:PT1H
BEGIN:VTIMEZONE
TZID:Europe/Berlin
BEGIN:DAYLIGHT
TZOFFSETFROM:+0100
TZOFFSETTO:+0200
TZNAME:CEST
DTSTART:20220327T010000
END:DAYLIGHT
BEGIN:STANDARD
TZOFFSETFROM:+0200
TZOFFSETTO:+0100
TZNAME:CET
DTSTART:20221030T010000
END:STANDARD
BEGIN:DAYLIGHT
TZOFFSETFROM:+0100
TZOFFSETTO:+0200
TZNAME:CEST
DTSTART:20230326T010000
END:DAYLIGHT
BEGIN:STANDARD
TZOFFSETFROM:+0200
TZOFFSETTO:+0100
TZNAME:CET
DTSTART:20231029T010000
END:STANDARD
BEGIN:DAYLIGHT
TZOFFSETFROM:+0100
TZOFFSETTO:+0200
TZNAME:CEST
DTSTART:20240331T010000
END:DAYLIGHT
BEGIN:STANDARD
TZOFFSETFROM:+0200
TZOFFSETTO:+0100
TZNAME:CET
DTSTART:20241027T010000
END:STANDARD
END:VTIMEZONE
BEGIN:VEVENT
DTSTART;TZID=Europe/Berlin:20231018T190000
DTEND;TZID=Europe/Berlin:20231018T210000
DTSTAMP:20260420T103544
CREATED:20231005T132852Z
LAST-MODIFIED:20231005T132854Z
UID:10000964-1697655600-1697662800@verschickungsheime.de
SUMMARY:Anja Röhl kommt nach Erfurt
DESCRIPTION:18.10.23 in Erfurt \n\n\n\nVortrag und Lesung aus “Das Elend der Verschickungskinder”\, im Frauenladen Brennessel in Erfurt\, in der Regierungsstraße 28\, 99084 Erfurt um 18 Uhr
URL:https://verschickungsheime.de/event/anja-roehl-kommt-nach-erfurt/
END:VEVENT
END:VCALENDAR