BEGIN:VCALENDAR
VERSION:2.0
PRODID:-//Verschickungsheime - ECPv6.15.20//NONSGML v1.0//EN
CALSCALE:GREGORIAN
METHOD:PUBLISH
X-WR-CALNAME:Verschickungsheime
X-ORIGINAL-URL:https://verschickungsheime.de
X-WR-CALDESC:Veranstaltungen für Verschickungsheime
REFRESH-INTERVAL;VALUE=DURATION:PT1H
X-Robots-Tag:noindex
X-PUBLISHED-TTL:PT1H
BEGIN:VTIMEZONE
TZID:Europe/Berlin
BEGIN:DAYLIGHT
TZOFFSETFROM:+0100
TZOFFSETTO:+0200
TZNAME:CEST
DTSTART:20220327T010000
END:DAYLIGHT
BEGIN:STANDARD
TZOFFSETFROM:+0200
TZOFFSETTO:+0100
TZNAME:CET
DTSTART:20221030T010000
END:STANDARD
BEGIN:DAYLIGHT
TZOFFSETFROM:+0100
TZOFFSETTO:+0200
TZNAME:CEST
DTSTART:20230326T010000
END:DAYLIGHT
BEGIN:STANDARD
TZOFFSETFROM:+0200
TZOFFSETTO:+0100
TZNAME:CET
DTSTART:20231029T010000
END:STANDARD
BEGIN:DAYLIGHT
TZOFFSETFROM:+0100
TZOFFSETTO:+0200
TZNAME:CEST
DTSTART:20240331T010000
END:DAYLIGHT
BEGIN:STANDARD
TZOFFSETFROM:+0200
TZOFFSETTO:+0100
TZNAME:CET
DTSTART:20241027T010000
END:STANDARD
END:VTIMEZONE
BEGIN:VEVENT
DTSTART;TZID=Europe/Berlin:20231019T170000
DTEND;TZID=Europe/Berlin:20231019T190000
DTSTAMP:20260420T103211
CREATED:20231016T204048Z
LAST-MODIFIED:20231016T204333Z
UID:10000968-1697734800-1697742000@verschickungsheime.de
SUMMARY:Kiel: Verschickungskinder treffen sich
DESCRIPTION:Im KulturForum Kiel: Präsenztreffen\, Ihr seid herzlich willkommen!
URL:https://verschickungsheime.de/event/kiel-verschickungskinder-treffen-sich/
END:VEVENT
BEGIN:VEVENT
DTSTART;TZID=Europe/Berlin:20231019T180000
DTEND;TZID=Europe/Berlin:20231019T200000
DTSTAMP:20260420T103211
CREATED:20230913T182856Z
LAST-MODIFIED:20230913T182922Z
UID:10000812-1697738400-1697745600@verschickungsheime.de
SUMMARY:30. Videotreffen NRW
DESCRIPTION:Liebe Verschickungskinder\,wir laden alle Betroffenen mit NRW-Relevanz (aus NRW in ein anderes Bundesland\, oder aus einem anderen Bundesland nach NRW verschickt\, oder keins von beiden\, jedoch aktueller Wohnort in NRW und interessiert) zum 30. Videotreffen am Donnerstag\, den 19.10.2023\, 18.00 – 20.00 Uhr ein.Wer den Einladungslink nicht per NRW-Verteiler automatisch erhält\, kann sich gerne unter detlef.lichtrauter@akv-nrw.de oder unter jutta.redecker@akv-nrw anmelden.Wir freuen uns über eure Teilnahme und grüßen ganz herzlich.Detlef LichtrauterMichael Millgramm
URL:https://verschickungsheime.de/event/30-videotreffen-nrw/
CATEGORIES:NRW
ATTACH;FMTTYPE=image/png:https://verschickungsheime.de/wp-content/uploads/2023/09/30-Videotreffen-IG.png
END:VEVENT
BEGIN:VEVENT
DTSTART;TZID=Europe/Berlin:20231019T190000
DTEND;TZID=Europe/Berlin:20231019T203000
DTSTAMP:20260420T103211
CREATED:20230930T084547Z
LAST-MODIFIED:20230930T094035Z
UID:10000960-1697742000-1697747400@verschickungsheime.de
SUMMARY:Berliner Gruppe Verschickungskinder im Sekis e.V.
DESCRIPTION:Am Donnerstag\, den 19.10.23 um 19 Uhr treffen wir uns noch ein Mal am dritten Donnerstag im Sekis e.V.\, Charlottenburg\, Bismarkstraße 101\, U-Bahnhof Deutsche Oper. Das Treffen dient dem Erinnerungs- und Erlebnisaustausch\, sowie dem Planen von Aktionen und Veranstaltungen (Ab November ändern wir den Tag\, ab dann treffen wir uns jeden 1. Montag im Monat\, an gleicher Stelle) anmelden nicht nötig\, Anfragen: berlin@verschickungsheime.de. Für Berliner Verschickungskinder gibt es außerdem auch noch eine Gruppe\, die sich regelmäßig im Zoom trifft\, siehe Veranstaltungshinweise. Kontakt über: selbsthilfe-berlin@verschickungsheime.de
URL:https://verschickungsheime.de/event/berliner-gruppe-verschickungskinder-im-sekis-e-v/
CATEGORIES:Berlin
END:VEVENT
END:VCALENDAR