BEGIN:VCALENDAR
VERSION:2.0
PRODID:-//Verschickungsheime - ECPv6.15.20//NONSGML v1.0//EN
CALSCALE:GREGORIAN
METHOD:PUBLISH
X-ORIGINAL-URL:https://verschickungsheime.de
X-WR-CALDESC:Veranstaltungen für Verschickungsheime
REFRESH-INTERVAL;VALUE=DURATION:PT1H
X-Robots-Tag:noindex
X-PUBLISHED-TTL:PT1H
BEGIN:VTIMEZONE
TZID:Europe/Berlin
BEGIN:DAYLIGHT
TZOFFSETFROM:+0100
TZOFFSETTO:+0200
TZNAME:CEST
DTSTART:20220327T010000
END:DAYLIGHT
BEGIN:STANDARD
TZOFFSETFROM:+0200
TZOFFSETTO:+0100
TZNAME:CET
DTSTART:20221030T010000
END:STANDARD
BEGIN:DAYLIGHT
TZOFFSETFROM:+0100
TZOFFSETTO:+0200
TZNAME:CEST
DTSTART:20230326T010000
END:DAYLIGHT
BEGIN:STANDARD
TZOFFSETFROM:+0200
TZOFFSETTO:+0100
TZNAME:CET
DTSTART:20231029T010000
END:STANDARD
BEGIN:DAYLIGHT
TZOFFSETFROM:+0100
TZOFFSETTO:+0200
TZNAME:CEST
DTSTART:20240331T010000
END:DAYLIGHT
BEGIN:STANDARD
TZOFFSETFROM:+0200
TZOFFSETTO:+0100
TZNAME:CET
DTSTART:20241027T010000
END:STANDARD
END:VTIMEZONE
BEGIN:VEVENT
DTSTART;TZID=Europe/Berlin:20231030T170000
DTEND;TZID=Europe/Berlin:20231030T190000
DTSTAMP:20260420T090102
CREATED:20230911T151239Z
LAST-MODIFIED:20230911T151259Z
UID:10000802-1698685200-1698692400@verschickungsheime.de
SUMMARY:Dein Leben verdient Worte
DESCRIPTION:Biografische\, kreative Zoom-Schreibwerkstatt mit Sabine Samonig \n\n\n\nDu wolltest immer schon aufschreiben\, was du in der Verschickung erlebt hast und wusstest nicht genau\, wie? Ich unterstütze und begleite dich bei deinen Schritten\, denn: Schreiben kann befreien. Es packt in Worte\, was vielleicht im Kreisverkehr unserer Gedanken feststeckt. Schreiben ist auch wie eine liebevolle Umarmung\, voller Zuneigung. In jedem Fall macht biografisches\, kreatives Schreiben Mut. Es gibt kein richtig und falsch. Bringe deine Geschichte(n) ans Licht\, ohne jeden literarischen Anspruch. \n\n\n\nBring‘ aufs Papier\, was dir wichtig ist\, was dich bewegt. Herzlich Willkommen in unserer Schreibwerkstatt! Freue dich darauf\, gemeinsam respektvoll\, stärkend und liebevoll deine Welt zu beschreiben. Deine einzigartige Weise ist\, was zählt. Ich freue mich auf dich!Sabine Samonig \n\n\n\nAnmeldung bitte an: projekt@akv-nrw.deStichwort: Schreibwerkstatt Sabine \n\n\n\nAn allen Abenden dieses Angebots wird es bei Bedarf die Möglichkeit zu einem persönlichen Gespräch geben. \n\n\n\nGenaue Infos zu Beginn des Workshops. \n\n\n\nTermine: 23.10./30.10./6.11./13.11.2023 \n\n\n\nZur Referentin \n\n\n\nSabine Samonig hat den Master für Biografisches und Kreatives Schreiben an der ASH Berlin erworben und ist seit vielen Jahren Dozentin mit Lehraufträgen an der Dresden International University und ASH. Sie hat BWL und Sozialarbeit studiert und Menschen mit psychischer Einschränkung begleitet. Ihr Schwerpunkt ist die Familienberatung und der Kinderschutz. Ihre (Schreib-)Beratungskompetenz hat Sabine Samonig mit Ausbildungen in der \,Integrierten Lösungsorientierten Psychologie‘ (ILP) und der Positiven Psychologie vertieft. \n\n\n\nSie war Lehrcoach für ILP und ist von der Deutschen Gesellschaft für Positive Psychologie (DGPP) und dem Deutschen Coaching Verband als Systemischer Coach zertifiziert.Sabine ist Mutter von 4 Kindern und Unternehmerin in Berlin.
URL:https://verschickungsheime.de/event/dein-leben-verdient-worte-2/
CATEGORIES:NRW
ATTACH;FMTTYPE=image/png:https://verschickungsheime.de/wp-content/uploads/2023/09/Schreibwerkstatt-Instagram-Post.png
END:VEVENT
END:VCALENDAR