BEGIN:VCALENDAR
VERSION:2.0
PRODID:-//Verschickungsheime - ECPv6.15.20//NONSGML v1.0//EN
CALSCALE:GREGORIAN
METHOD:PUBLISH
X-ORIGINAL-URL:https://verschickungsheime.de
X-WR-CALDESC:Veranstaltungen für Verschickungsheime
REFRESH-INTERVAL;VALUE=DURATION:PT1H
X-Robots-Tag:noindex
X-PUBLISHED-TTL:PT1H
BEGIN:VTIMEZONE
TZID:Europe/Berlin
BEGIN:DAYLIGHT
TZOFFSETFROM:+0100
TZOFFSETTO:+0200
TZNAME:CEST
DTSTART:20220327T010000
END:DAYLIGHT
BEGIN:STANDARD
TZOFFSETFROM:+0200
TZOFFSETTO:+0100
TZNAME:CET
DTSTART:20221030T010000
END:STANDARD
BEGIN:DAYLIGHT
TZOFFSETFROM:+0100
TZOFFSETTO:+0200
TZNAME:CEST
DTSTART:20230326T010000
END:DAYLIGHT
BEGIN:STANDARD
TZOFFSETFROM:+0200
TZOFFSETTO:+0100
TZNAME:CET
DTSTART:20231029T010000
END:STANDARD
BEGIN:DAYLIGHT
TZOFFSETFROM:+0100
TZOFFSETTO:+0200
TZNAME:CEST
DTSTART:20240331T010000
END:DAYLIGHT
BEGIN:STANDARD
TZOFFSETFROM:+0200
TZOFFSETTO:+0100
TZNAME:CET
DTSTART:20241027T010000
END:STANDARD
END:VTIMEZONE
BEGIN:VEVENT
DTSTART;TZID=Europe/Berlin:20231031T180000
DTEND;TZID=Europe/Berlin:20231031T200000
DTSTAMP:20260420T090102
CREATED:20231007T075112Z
LAST-MODIFIED:20231007T080513Z
UID:10000965-1698775200-1698782400@verschickungsheime.de
SUMMARY:Nicole Hoffmann und Team stellt Forschungen der Koblenzer Uni vor
DESCRIPTION:In enger Zusammenarbeit mit einer Heimgruppe von Betroffenen aus dem Viktoriastift in Bad Kreuznach\, finden momentan an der Universität Koblenz  Forschungen statt. Prof. Dr. Nicole Hoffmann\, Hannah Rosenberg\, und Wiebke Waburg\, berichten über:  \n\n\n\n\nVerschickung früher und Wege des persönlichen Umgangs damit heute – \n\n\n\n\nErfahrungen aus zwei Projekten. Nicole Hoffmann\, Wiebke Waburg und Hannah Rosenberg von der Universität Koblenz stellen ein Verschickungs-Projekt vor. \n\n\n\nAnmelden unter: buko@verschickungsheime.de\, wir freuen uns über rege Teilnahme!
URL:https://verschickungsheime.de/event/nicole-hoffmann-stellt-projekt-der-koblenzer-uni-vor/
END:VEVENT
END:VCALENDAR