BEGIN:VCALENDAR
VERSION:2.0
PRODID:-//Verschickungsheime - ECPv6.15.20//NONSGML v1.0//EN
CALSCALE:GREGORIAN
METHOD:PUBLISH
X-WR-CALNAME:Verschickungsheime
X-ORIGINAL-URL:https://verschickungsheime.de
X-WR-CALDESC:Veranstaltungen für Verschickungsheime
REFRESH-INTERVAL;VALUE=DURATION:PT1H
X-Robots-Tag:noindex
X-PUBLISHED-TTL:PT1H
BEGIN:VTIMEZONE
TZID:Europe/Berlin
BEGIN:DAYLIGHT
TZOFFSETFROM:+0100
TZOFFSETTO:+0200
TZNAME:CEST
DTSTART:20220327T010000
END:DAYLIGHT
BEGIN:STANDARD
TZOFFSETFROM:+0200
TZOFFSETTO:+0100
TZNAME:CET
DTSTART:20221030T010000
END:STANDARD
BEGIN:DAYLIGHT
TZOFFSETFROM:+0100
TZOFFSETTO:+0200
TZNAME:CEST
DTSTART:20230326T010000
END:DAYLIGHT
BEGIN:STANDARD
TZOFFSETFROM:+0200
TZOFFSETTO:+0100
TZNAME:CET
DTSTART:20231029T010000
END:STANDARD
BEGIN:DAYLIGHT
TZOFFSETFROM:+0100
TZOFFSETTO:+0200
TZNAME:CEST
DTSTART:20240331T010000
END:DAYLIGHT
BEGIN:STANDARD
TZOFFSETFROM:+0200
TZOFFSETTO:+0100
TZNAME:CET
DTSTART:20241027T010000
END:STANDARD
END:VTIMEZONE
BEGIN:VEVENT
DTSTART;TZID=Europe/Berlin:20231107T170000
DTEND;TZID=Europe/Berlin:20231107T190000
DTSTAMP:20260420T085907
CREATED:20230309T164723Z
LAST-MODIFIED:20230309T165418Z
UID:10000903-1699376400-1699383600@verschickungsheime.de
SUMMARY:Kölner Selbsthilfegruppe (Live)
DESCRIPTION:Live-Treffen im Bürgerzentrum in Köln-DeutzUte und Angelika Freuen sich auf eure Teilnahmen.. Wir freuen uns darauf\, euch bald einmal wieder zu sehen. \n\n\n\nMit herzlichen GrüßenUte und Angelika \n\n\n\nEinschränkungen durch Corona Bestimmungen gibt es zurzeit nicht\, wir bitten jedoch alle\, die an Live-Treffen teilnehmen möchten und Krankheitsanzeichen haben oder Kontakt zu an Covid 19 erkrankten Personen hatten\, vorher zur Sicherheit aller Teilnehmer einen Selbsttest durchzuführen.
URL:https://verschickungsheime.de/event/koelner-selbsthilfegruppe-2-5/
CATEGORIES:NRW
END:VEVENT
END:VCALENDAR