BEGIN:VCALENDAR
VERSION:2.0
PRODID:-//Verschickungsheime - ECPv6.15.20//NONSGML v1.0//EN
CALSCALE:GREGORIAN
METHOD:PUBLISH
X-ORIGINAL-URL:https://verschickungsheime.de
X-WR-CALDESC:Veranstaltungen für Verschickungsheime
REFRESH-INTERVAL;VALUE=DURATION:PT1H
X-Robots-Tag:noindex
X-PUBLISHED-TTL:PT1H
BEGIN:VTIMEZONE
TZID:Europe/Berlin
BEGIN:DAYLIGHT
TZOFFSETFROM:+0100
TZOFFSETTO:+0200
TZNAME:CEST
DTSTART:20220327T010000
END:DAYLIGHT
BEGIN:STANDARD
TZOFFSETFROM:+0200
TZOFFSETTO:+0100
TZNAME:CET
DTSTART:20221030T010000
END:STANDARD
BEGIN:DAYLIGHT
TZOFFSETFROM:+0100
TZOFFSETTO:+0200
TZNAME:CEST
DTSTART:20230326T010000
END:DAYLIGHT
BEGIN:STANDARD
TZOFFSETFROM:+0200
TZOFFSETTO:+0100
TZNAME:CET
DTSTART:20231029T010000
END:STANDARD
BEGIN:DAYLIGHT
TZOFFSETFROM:+0100
TZOFFSETTO:+0200
TZNAME:CEST
DTSTART:20240331T010000
END:DAYLIGHT
BEGIN:STANDARD
TZOFFSETFROM:+0200
TZOFFSETTO:+0100
TZNAME:CET
DTSTART:20241027T010000
END:STANDARD
END:VTIMEZONE
BEGIN:VEVENT
DTSTART;TZID=Europe/Berlin:20231108T080000
DTEND;TZID=Europe/Berlin:20231108T170000
DTSTAMP:20260420T090033
CREATED:20231108T091525Z
LAST-MODIFIED:20231108T091527Z
UID:10000977-1699430400-1699462800@verschickungsheime.de
SUMMARY:5. Fachkongress Bad Salzdetfurth mit Pressekonferenz um 12 Uhr
DESCRIPTION:Am letzten Tag des Kongresses finden noch Vorträge statt\, dazu wird es die Pressekonferenz geben\, auch alle Ausstellungen können noch angesehen werden und der Ausklang wird eine emotionale Abschiedsrunde für Betroffene sein. Wir freuen uns über Euer Kommen! Hier das Programm
URL:https://verschickungsheime.de/event/5-fachkongress-bad-salzdetfurth-mit-pressekonferenz-um-12-uhr/
END:VEVENT
END:VCALENDAR