BEGIN:VCALENDAR
VERSION:2.0
PRODID:-//Verschickungsheime - ECPv6.15.20//NONSGML v1.0//EN
CALSCALE:GREGORIAN
METHOD:PUBLISH
X-ORIGINAL-URL:https://verschickungsheime.de
X-WR-CALDESC:Veranstaltungen für Verschickungsheime
REFRESH-INTERVAL;VALUE=DURATION:PT1H
X-Robots-Tag:noindex
X-PUBLISHED-TTL:PT1H
BEGIN:VTIMEZONE
TZID:Europe/Berlin
BEGIN:DAYLIGHT
TZOFFSETFROM:+0100
TZOFFSETTO:+0200
TZNAME:CEST
DTSTART:20220327T010000
END:DAYLIGHT
BEGIN:STANDARD
TZOFFSETFROM:+0200
TZOFFSETTO:+0100
TZNAME:CET
DTSTART:20221030T010000
END:STANDARD
BEGIN:DAYLIGHT
TZOFFSETFROM:+0100
TZOFFSETTO:+0200
TZNAME:CEST
DTSTART:20230326T010000
END:DAYLIGHT
BEGIN:STANDARD
TZOFFSETFROM:+0200
TZOFFSETTO:+0100
TZNAME:CET
DTSTART:20231029T010000
END:STANDARD
BEGIN:DAYLIGHT
TZOFFSETFROM:+0100
TZOFFSETTO:+0200
TZNAME:CEST
DTSTART:20240331T010000
END:DAYLIGHT
BEGIN:STANDARD
TZOFFSETFROM:+0200
TZOFFSETTO:+0100
TZNAME:CET
DTSTART:20241027T010000
END:STANDARD
END:VTIMEZONE
BEGIN:VEVENT
DTSTART;TZID=Europe/Berlin:20231112T150000
DTEND;TZID=Europe/Berlin:20231112T170000
DTSTAMP:20260420T090114
CREATED:20231007T191602Z
LAST-MODIFIED:20231019T231833Z
UID:10000966-1699801200-1699808400@verschickungsheime.de
SUMMARY:100 Zeichnungen - Krefeld: Buchpremiere von Jari Banas
DESCRIPTION:Am 12.11.23 wird es im Rahmen der ATELIER – TAGE in Krefeld eine Buchpremiere mit Jari Banas geben. Sein Buch: Verschickungskinder – vom Leben gezeichnet\, wird an diesem Tag erscheinen und dort vorgestellt werden. 100 Zeichnungen hat Jari Banas\, gebürtiger Finne\, in den letzten Monaten gezeichnet\, die alle auf öffentliche Betroffenenaussagen zurückgehen. Angst\, Schmerz\, Wut und Verzweiflung von kleinen Kindern\,  anlässlich einer ungeheuren Übermacht von Härte\, Kälte und feindlicher Umgebung hat er ideenreich\, detailgetreu\, einfühlsam und provokant gegen die Täter\, skizziert\, gezeichnet und ausgemalt. Auch\, wie sich die Betroffenen wehren und welche Kraft aus der Solidarität kommt\, stellt er dar. Seine Zeichnungen sind dabei ganz aus kindlicher Sicht angelegt\, schöpfen ihre Kraft aus dem magischen Denken der Kleinkinder\, deren Angst-Erleben hier von Drachen und Märchenfiguren bevölkert ist.  \n\n\n\nBuchpremiere ist am 12.11.23 in KREFELD\, in:  \n\n\n\nJARIS ATELIER | Jari Banas \n\n\n\nMartinstr. 185 D-47805 KrefeldTel. 02151-313385Fax 02151-933525 \n\n\n\nWebseite
URL:https://verschickungsheime.de/event/100-zeichnungen-anja-roehl-kommt-nach-krefeld-zur-buchpremiere-von-jari-banas-buch/
END:VEVENT
END:VCALENDAR