BEGIN:VCALENDAR
VERSION:2.0
PRODID:-//Verschickungsheime - ECPv6.15.20//NONSGML v1.0//EN
CALSCALE:GREGORIAN
METHOD:PUBLISH
X-WR-CALNAME:Verschickungsheime
X-ORIGINAL-URL:https://verschickungsheime.de
X-WR-CALDESC:Veranstaltungen für Verschickungsheime
REFRESH-INTERVAL;VALUE=DURATION:PT1H
X-Robots-Tag:noindex
X-PUBLISHED-TTL:PT1H
BEGIN:VTIMEZONE
TZID:Europe/Berlin
BEGIN:DAYLIGHT
TZOFFSETFROM:+0100
TZOFFSETTO:+0200
TZNAME:CEST
DTSTART:20220327T010000
END:DAYLIGHT
BEGIN:STANDARD
TZOFFSETFROM:+0200
TZOFFSETTO:+0100
TZNAME:CET
DTSTART:20221030T010000
END:STANDARD
BEGIN:DAYLIGHT
TZOFFSETFROM:+0100
TZOFFSETTO:+0200
TZNAME:CEST
DTSTART:20230326T010000
END:DAYLIGHT
BEGIN:STANDARD
TZOFFSETFROM:+0200
TZOFFSETTO:+0100
TZNAME:CET
DTSTART:20231029T010000
END:STANDARD
BEGIN:DAYLIGHT
TZOFFSETFROM:+0100
TZOFFSETTO:+0200
TZNAME:CEST
DTSTART:20240331T010000
END:DAYLIGHT
BEGIN:STANDARD
TZOFFSETFROM:+0200
TZOFFSETTO:+0100
TZNAME:CET
DTSTART:20241027T010000
END:STANDARD
END:VTIMEZONE
BEGIN:VEVENT
DTSTART;TZID=Europe/Berlin:20231115T190000
DTEND;TZID=Europe/Berlin:20231115T210000
DTSTAMP:20260420T085803
CREATED:20231023T093136Z
LAST-MODIFIED:20231023T093201Z
UID:10000970-1700074800-1700082000@verschickungsheime.de
SUMMARY:Lena Gilhaus liest im Literaturhaus Köln
DESCRIPTION:Präsentiert von Aufarbeitung Kinderverschickungen NRW e.V.:Die bekannte TV- und Rundfunkjournalistin Lena Gilhaus liest am 15. November 2023 um 19:00 im Literaturhaus Köln aus ihrem neuen Buch „Verschickungskinder“. \n\n\n\nSie enthüllt in ihrem neuen Sachbuch schockierende Details und deckt bisher unbekannte Verantwortlichkeiten auf. Zudem werden Ausschnitte aus ihrer vielbeachteten\, bundesweit ausgestrahlten ARD Doku „Verschickungskinder – Missbrauch und Gewalt bei Kinderkuren“ gezeigt. \n\n\n\nWir freuen uns\, die renommierte Journalistin und Autorin für eine Lesung im Literaturhaus Köln gewinnen zu können. Ihr Buch „Verschickungskinder. Eine verdrängte Geschichte“ beleuchtet die bislang viel zu wenig bekannte Geschichte der Verschickungskinder von einer ganz neuen Seite. \n\n\n\nÜber 15 Millionen Kinder wurden zwischen 1950 und 1990 in der BRD und der DDR zur Kur geschickt. Viele erlebten diese Zeit als traumatisch\, doch ihre Erfahrungen blieben oft unausgesprochen. Die preisgekrönte Journalistin Lena Gilhaus stieß durch Zufall auf das Thema. Als sie erfuhr\, dass ihr eigener Vater als Kind zur Kur geschickt wurde\, begann sie mit ihren Recherchen. Die Veröffentlichung einer ersten Recherche über Kinderkuren löste eine Lawine von Erinnerungen und Erfahrungen: Unzählige Menschen meldeten sich aus allen Teilen des Landes\, um ihre Geschichten zu teilen. \n\n\n\nLena Gilhaus begab sich auf eine tiefergehende Spurensuche und enthüllte ein bisher verdrängtes Kapitel der Nachkriegsgeschichte.Mit ihrem Buch wirft sie viele wichtige Fragen auf: Wo liegen die historischen Wurzeln der Kinderverschickung? Hinterließ der Nationalsozialismus Spuren in diesem System? Wie wurden die Kuren organisiert\, wer finanzierte sie und wer profitierte davon? Welchen Alltag erlebten die Kinder und welche tiefgreifenden Auswirkungen hatte dies auf die Gesellschaft der Nachkriegszeit? \n\n\n\nDie Lesung von Lena Gilhaus verspricht\, spannend\, hochinformativ und bewegend zu werden. Sie stützt sich auf unveröffentlichte Dokumente und zahlreiche persönliche Erlebnisberichte\, um die oft übersehene Geschichte der Kinderkuren aufzudecken. \n\n\n\nAufarbeitungen Kinderverschickungen NRW e.V. lädt herzlich ein zur Lesung und Filmausschnitten aus der ARD Dokumentation von Lena Gilhaus\, um mehr über dieses wichtige und emotionale Thema zu erfahren und zu diskutieren. Detlef Lichtrauter wird den Abend moderieren. \n\n\n\nMittwoch\, 15. November 2023\, 19:00 Uhr \n\n\n\nLiteraturhaus KölnGroßer Griechenmarkt 3950676 Köln \n\n\n\nEintritt frei!
URL:https://verschickungsheime.de/event/lena-gilhaus-liest-im-literaturhaus-koeln/
CATEGORIES:NRW
ATTACH;FMTTYPE=image/png:https://verschickungsheime.de/wp-content/uploads/2023/10/Lena-Gilhaus-Instagram.png
END:VEVENT
END:VCALENDAR