BEGIN:VCALENDAR
VERSION:2.0
PRODID:-//Verschickungsheime - ECPv6.15.20//NONSGML v1.0//EN
CALSCALE:GREGORIAN
METHOD:PUBLISH
X-ORIGINAL-URL:https://verschickungsheime.de
X-WR-CALDESC:Veranstaltungen für Verschickungsheime
REFRESH-INTERVAL;VALUE=DURATION:PT1H
X-Robots-Tag:noindex
X-PUBLISHED-TTL:PT1H
BEGIN:VTIMEZONE
TZID:Europe/Berlin
BEGIN:DAYLIGHT
TZOFFSETFROM:+0100
TZOFFSETTO:+0200
TZNAME:CEST
DTSTART:20220327T010000
END:DAYLIGHT
BEGIN:STANDARD
TZOFFSETFROM:+0200
TZOFFSETTO:+0100
TZNAME:CET
DTSTART:20221030T010000
END:STANDARD
BEGIN:DAYLIGHT
TZOFFSETFROM:+0100
TZOFFSETTO:+0200
TZNAME:CEST
DTSTART:20230326T010000
END:DAYLIGHT
BEGIN:STANDARD
TZOFFSETFROM:+0200
TZOFFSETTO:+0100
TZNAME:CET
DTSTART:20231029T010000
END:STANDARD
BEGIN:DAYLIGHT
TZOFFSETFROM:+0100
TZOFFSETTO:+0200
TZNAME:CEST
DTSTART:20240331T010000
END:DAYLIGHT
BEGIN:STANDARD
TZOFFSETFROM:+0200
TZOFFSETTO:+0100
TZNAME:CET
DTSTART:20241027T010000
END:STANDARD
END:VTIMEZONE
BEGIN:VEVENT
DTSTART;TZID=Europe/Berlin:20231205T170000
DTEND;TZID=Europe/Berlin:20231205T190000
DTSTAMP:20260420T083858
CREATED:20230309T164723Z
LAST-MODIFIED:20230523T100316Z
UID:10000904-1701795600-1701802800@verschickungsheime.de
SUMMARY:Kölner Selbsthilfegruppe (Live)
DESCRIPTION:Live-Treffen im Bürgerzentrum in Köln-DeutzUte und Angelika Freuen sich auf eure Teilnahmen.. Wir freuen uns darauf\, euch bald einmal wieder zu sehen. \n\n\n\nMit herzlichen GrüßenUte und Angelika \n\n\n\nEinschränkungen durch Corona Bestimmungen gibt es zurzeit nicht\, wir bitten jedoch alle\, die an Live-Treffen teilnehmen möchten und Krankheitsanzeichen haben oder Kontakt zu an Covid 19 erkrankten Personen hatten\, vorher zur Sicherheit aller Teilnehmer einen Selbsttest durchzuführen.
URL:https://verschickungsheime.de/event/koelner-selbsthilfegruppe-2-2-2/
CATEGORIES:NRW
END:VEVENT
BEGIN:VEVENT
DTSTART;TZID=Europe/Berlin:20231205T170000
DTEND;TZID=Europe/Berlin:20231205T190000
DTSTAMP:20260420T083858
CREATED:20231124T153035Z
LAST-MODIFIED:20231124T153501Z
UID:10000978-1701795600-1701802800@verschickungsheime.de
SUMMARY:Ehemalige Verschickungskinder treffen sich in Kiel
DESCRIPTION:EINLADUNG: An alle ehemalige Verschickungskinder aus Schleswig-Holstein\, am 5.12.23 gibt es wieder ein Treffen in Kiel\, im Kulturforum\, in der Andreas-Gayk-Straße.31\, Anmeldung oder Fragen dazu bei Susanne Dank: susanne.s-h@online.de\, wir freuen uns über euer zahlreiches Erscheinen!
URL:https://verschickungsheime.de/event/ehemalige-verschickungskinder-treffen-sich-in-kiel/
END:VEVENT
END:VCALENDAR