BEGIN:VCALENDAR
VERSION:2.0
PRODID:-//Verschickungsheime - ECPv6.15.20//NONSGML v1.0//EN
CALSCALE:GREGORIAN
METHOD:PUBLISH
X-ORIGINAL-URL:https://verschickungsheime.de
X-WR-CALDESC:Veranstaltungen für Verschickungsheime
REFRESH-INTERVAL;VALUE=DURATION:PT1H
X-Robots-Tag:noindex
X-PUBLISHED-TTL:PT1H
BEGIN:VTIMEZONE
TZID:Europe/Berlin
BEGIN:DAYLIGHT
TZOFFSETFROM:+0100
TZOFFSETTO:+0200
TZNAME:CEST
DTSTART:20230326T010000
END:DAYLIGHT
BEGIN:STANDARD
TZOFFSETFROM:+0200
TZOFFSETTO:+0100
TZNAME:CET
DTSTART:20231029T010000
END:STANDARD
BEGIN:DAYLIGHT
TZOFFSETFROM:+0100
TZOFFSETTO:+0200
TZNAME:CEST
DTSTART:20240331T010000
END:DAYLIGHT
BEGIN:STANDARD
TZOFFSETFROM:+0200
TZOFFSETTO:+0100
TZNAME:CET
DTSTART:20241027T010000
END:STANDARD
BEGIN:DAYLIGHT
TZOFFSETFROM:+0100
TZOFFSETTO:+0200
TZNAME:CEST
DTSTART:20250330T010000
END:DAYLIGHT
BEGIN:STANDARD
TZOFFSETFROM:+0200
TZOFFSETTO:+0100
TZNAME:CET
DTSTART:20251026T010000
END:STANDARD
END:VTIMEZONE
BEGIN:VEVENT
DTSTART;TZID=Europe/Berlin:20240102T170000
DTEND;TZID=Europe/Berlin:20240102T200000
DTSTAMP:20260420T055242
CREATED:20231211T140914Z
LAST-MODIFIED:20231211T141946Z
UID:10000984-1704214800-1704225600@verschickungsheime.de
SUMMARY:Bawü: Dienstags-Austauschtreffen und weitere Termine
DESCRIPTION:Jeden ersten Dienstag im Monat von 17:00 bis 20:00 Uhr treffen wir\, Verschickungskinder aus Bawü\, uns im Alten Rathaus in Reutlingen\, Rathausstraße 6\, 72764 Reutlingen\, zur Erinnerungs-Austauschgruppe in Präsenz. Alle\, die in Bawü wohnen und aus Bawü verschickt wurden\, sind herzlich willkommen. \n\n\n\n Weitere Information für alle\, die aus Bawü verschickt wurden und heute in Bawü wohnen:  \n\n\n\nViermal im Monat bieten wir (Aufarbeitung Kinderverschickung Bawü/AKVBW e.V.) die Möglichkeit\, sich in einer Austauschgruppe\, Erlebnisse während und nach der Verschickung auszutauschen und diese zu teilen. .Die aktuellen Termine findet ihr hier. Der Rahmen ist vertraulich\, wertschätzend und emphatisch. Egal\, ob du einmal oder regelmäßig daran teilnimmst\, negative oder positive oder auch nur wenige Erinnerungen hast\, jede*r ist willkommen. Die eigene Geschichte zu erzählen\, Resonanz von anderen zu bekommen schafft die Möglichkeit\, das Erlebte einzuordnen. \n\n\n\nJeden zweiten Samstag im Monat von 11:00 bis 14:00 Uhr treffen wir uns im KISS www.kiss-stuttgart.de in Stuttgart\, Tübinger Straße 15\, in Präsenz. \n\n\n\nJeden dritten Mittwoch im Monat von 20:00 bis 22:00 Uhr treffen wir uns im Selbsthilfebüro in Freiburg\, Schwabentorring 2\, in Präsenz. \n\n\n\nJeden letzten Dienstag im Monat von 19:00 bis 21:00 Uhr treffen wir uns online. Nach deiner Anmeldung unter mail@verschickungsheime-bw.de erhältst du einen Link zur Einwahl. \n\n\n\nAlle Gruppen werden von einem oder zwei Mitgliedern des Vereins moderiert. Inhalt und Themen orientieren sich an den Teilnehmer*innen. Die Austauschgruppe kann den persönlichen Prozess der Auseinandersetzung mit der eigenen Verschickung unterstützen. Da die Teilnehmer*innen keine feste Gruppe bilden\, ist für erstmalige Teilnehmer*innen ein Einstieg leicht möglich. Geschwister oder Eltern von Verschickungskindern sind ebenfalls willkommen. Nach vorheriger Rücksprache können auch ehemalige Mitarbeitende daran teilnehmen
URL:https://verschickungsheime.de/event/bawue-austauschtreffen/
END:VEVENT
END:VCALENDAR