BEGIN:VCALENDAR
VERSION:2.0
PRODID:-//Verschickungsheime - ECPv6.15.20//NONSGML v1.0//EN
CALSCALE:GREGORIAN
METHOD:PUBLISH
X-WR-CALNAME:Verschickungsheime
X-ORIGINAL-URL:https://verschickungsheime.de
X-WR-CALDESC:Veranstaltungen für Verschickungsheime
REFRESH-INTERVAL;VALUE=DURATION:PT1H
X-Robots-Tag:noindex
X-PUBLISHED-TTL:PT1H
BEGIN:VTIMEZONE
TZID:Europe/Berlin
BEGIN:DAYLIGHT
TZOFFSETFROM:+0100
TZOFFSETTO:+0200
TZNAME:CEST
DTSTART:20230326T010000
END:DAYLIGHT
BEGIN:STANDARD
TZOFFSETFROM:+0200
TZOFFSETTO:+0100
TZNAME:CET
DTSTART:20231029T010000
END:STANDARD
BEGIN:DAYLIGHT
TZOFFSETFROM:+0100
TZOFFSETTO:+0200
TZNAME:CEST
DTSTART:20240331T010000
END:DAYLIGHT
BEGIN:STANDARD
TZOFFSETFROM:+0200
TZOFFSETTO:+0100
TZNAME:CET
DTSTART:20241027T010000
END:STANDARD
BEGIN:DAYLIGHT
TZOFFSETFROM:+0100
TZOFFSETTO:+0200
TZNAME:CEST
DTSTART:20250330T010000
END:DAYLIGHT
BEGIN:STANDARD
TZOFFSETFROM:+0200
TZOFFSETTO:+0100
TZNAME:CET
DTSTART:20251026T010000
END:STANDARD
END:VTIMEZONE
BEGIN:VEVENT
DTSTART;TZID=Europe/Berlin:20240110T170000
DTEND;TZID=Europe/Berlin:20240110T190000
DTSTAMP:20260420T065643
CREATED:20231215T181109Z
LAST-MODIFIED:20231215T181159Z
UID:10000988-1704906000-1704913200@verschickungsheime.de
SUMMARY:Schleswig-Holstein: Verschickungskinder treffen sich in Kiel
DESCRIPTION:Liebe Verschickungskinder aus Schleswig-Holstein\, am Mittwoch 10. Januar 2024 treffen wir uns in Kiel erneut im KULTURFORUM KIEL\, um 17 Uhr in der Andreas-Gayk-Str. 31\, 24103 Kiel. Menschen\, die aus Schleswig-Holstein und Kiel verschickt wurden oder heute in Schleswig-Holstein / Kiel wohnen\, sind herzlich eingeladen zu kommen. \n\n\n\nZiele des Treffens: \n\n\n\nErinnerungsaustausch\, Selbsthilfe mobilisieren\, Rechercheergebnisse zusammentragen. Gemeinsam die Vorträge der Nachlese des Bundeskongresses anschauen und austauschen. Referenten für nächste Treffen überlegen. Nächste Vorhaben\, vielleicht die Ausstellung der Bilder von Heike Fischer-Nagel nach Kiel holen? Ideen sammeln. Informationen über die geplante Reise der Verschickungskinder nach Wyk zusammentragen und weitergeben. Kommt gern vorbei\, wir gehen wertschätzend miteinander um\, wir achten unsere unterschiedlichen Erfahrungen und Erlebnisse\, wir hören einander zu \n\n\n\nGrüße aus dem S.-H.-Team\, von Susanne Dank und Susanne Speck
URL:https://verschickungsheime.de/event/schleswig-holstein-verschickungskinder-treffen-sich-in-kiel/
END:VEVENT
BEGIN:VEVENT
DTSTART;TZID=Europe/Berlin:20240110T180000
DTEND;TZID=Europe/Berlin:20240110T193000
DTSTAMP:20260420T065643
CREATED:20240101T155756Z
LAST-MODIFIED:20240101T160052Z
UID:10000999-1704909600-1704915000@verschickungsheime.de
SUMMARY:13. Onlinetreffen der Wyk- (Föhr-) Austauschgruppe
DESCRIPTION:Die Wyk – Austauschgruppe ist ein Zusammenschluss von Verschickungskindern oder Angehörigen\, die auf die Insel Föhr verschickt wurden. Sie wird derzeit von Stefan\, einem Angehörigen\, als HOK betreut. \n\n\n\nMittlerweile sind etwa 70 Mitglieder in der Gruppe. \n\n\n\nAlle haben sich verpflichtet\, über die ihnen bekannten persönlichen Daten der Gruppenmitglieder nur in der Gruppe zu sprechen! Für Nicht – Gruppenmitglieder sind diese Daten tabu. \n\n\n\nWir veranstalten regelmäßig Zoomtreffen und teilen unsere Erlebnisse und Erfahrungen und tauschen uns über Rechercheergebnisse aus. \n\n\n\nWer an einem Zoom – Treffen teilnehmen möchte\, wendet sich rechtzeitig vorher an:    Wyk@Verschickungsheime.de
URL:https://verschickungsheime.de/event/13-onlinetreffen-der-wyk-foehr-austauschgruppe/
CATEGORIES:Schleswig-Holstein
END:VEVENT
END:VCALENDAR