BEGIN:VCALENDAR
VERSION:2.0
PRODID:-//Verschickungsheime - ECPv6.15.20//NONSGML v1.0//EN
CALSCALE:GREGORIAN
METHOD:PUBLISH
X-ORIGINAL-URL:https://verschickungsheime.de
X-WR-CALDESC:Veranstaltungen für Verschickungsheime
REFRESH-INTERVAL;VALUE=DURATION:PT1H
X-Robots-Tag:noindex
X-PUBLISHED-TTL:PT1H
BEGIN:VTIMEZONE
TZID:Europe/Berlin
BEGIN:DAYLIGHT
TZOFFSETFROM:+0100
TZOFFSETTO:+0200
TZNAME:CEST
DTSTART:20230326T010000
END:DAYLIGHT
BEGIN:STANDARD
TZOFFSETFROM:+0200
TZOFFSETTO:+0100
TZNAME:CET
DTSTART:20231029T010000
END:STANDARD
BEGIN:DAYLIGHT
TZOFFSETFROM:+0100
TZOFFSETTO:+0200
TZNAME:CEST
DTSTART:20240331T010000
END:DAYLIGHT
BEGIN:STANDARD
TZOFFSETFROM:+0200
TZOFFSETTO:+0100
TZNAME:CET
DTSTART:20241027T010000
END:STANDARD
BEGIN:DAYLIGHT
TZOFFSETFROM:+0100
TZOFFSETTO:+0200
TZNAME:CEST
DTSTART:20250330T010000
END:DAYLIGHT
BEGIN:STANDARD
TZOFFSETFROM:+0200
TZOFFSETTO:+0100
TZNAME:CET
DTSTART:20251026T010000
END:STANDARD
END:VTIMEZONE
BEGIN:VEVENT
DTSTART;TZID=Europe/Berlin:20240111T180000
DTEND;TZID=Europe/Berlin:20240111T193000
DTSTAMP:20260420T070450
CREATED:20240101T162152Z
LAST-MODIFIED:20240101T234553Z
UID:10000841-1704996000-1705001400@verschickungsheime.de
SUMMARY:1. Onlinetreffen der Austauschgruppe Bad Kreuznach / Bad Münster
DESCRIPTION:Wer sich für dieses Treffen interessiert\, wendet sich frühzeitig an die Gruppe unter: Bad-Kr-Bad-Mue@Verschickungsheime.de
URL:https://verschickungsheime.de/event/1-onlinetreffen-der-austauschgruppe-bad-kreuznach-bad-muenster-2/
CATEGORIES:Rheinland- Pfalz
END:VEVENT
BEGIN:VEVENT
DTSTART;TZID=Europe/Berlin:20240111T180000
DTEND;TZID=Europe/Berlin:20240111T193000
DTSTAMP:20260420T070450
CREATED:20240111T170050Z
LAST-MODIFIED:20240101T161930Z
UID:10000843-1704996000-1705001400@verschickungsheime.de
SUMMARY:1. Onlinetreffen der Austauschgruppe Bad Kreuznach / Bad Münster
DESCRIPTION:Wr sich für die Veranstaltung interessiert\, wendet sich rechtzeitig an: Bad-Kr-Bad-Mue@Verschickungsheime.de
URL:https://verschickungsheime.de/event/1-onlinetreffen-der-austauschgruppe-bad-kreuznach-bad-muenster/
CATEGORIES:Rheinland- Pfalz
END:VEVENT
END:VCALENDAR