BEGIN:VCALENDAR
VERSION:2.0
PRODID:-//Verschickungsheime - ECPv6.15.20//NONSGML v1.0//EN
CALSCALE:GREGORIAN
METHOD:PUBLISH
X-ORIGINAL-URL:https://verschickungsheime.de
X-WR-CALDESC:Veranstaltungen für Verschickungsheime
REFRESH-INTERVAL;VALUE=DURATION:PT1H
X-Robots-Tag:noindex
X-PUBLISHED-TTL:PT1H
BEGIN:VTIMEZONE
TZID:Europe/Berlin
BEGIN:DAYLIGHT
TZOFFSETFROM:+0100
TZOFFSETTO:+0200
TZNAME:CEST
DTSTART:20230326T010000
END:DAYLIGHT
BEGIN:STANDARD
TZOFFSETFROM:+0200
TZOFFSETTO:+0100
TZNAME:CET
DTSTART:20231029T010000
END:STANDARD
BEGIN:DAYLIGHT
TZOFFSETFROM:+0100
TZOFFSETTO:+0200
TZNAME:CEST
DTSTART:20240331T010000
END:DAYLIGHT
BEGIN:STANDARD
TZOFFSETFROM:+0200
TZOFFSETTO:+0100
TZNAME:CET
DTSTART:20241027T010000
END:STANDARD
BEGIN:DAYLIGHT
TZOFFSETFROM:+0100
TZOFFSETTO:+0200
TZNAME:CEST
DTSTART:20250330T010000
END:DAYLIGHT
BEGIN:STANDARD
TZOFFSETFROM:+0200
TZOFFSETTO:+0100
TZNAME:CET
DTSTART:20251026T010000
END:STANDARD
END:VTIMEZONE
BEGIN:VEVENT
DTSTART;TZID=Europe/Berlin:20240113T110000
DTEND;TZID=Europe/Berlin:20240113T140000
DTSTAMP:20260420T065705
CREATED:20231211T141623Z
LAST-MODIFIED:20231211T141740Z
UID:10000982-1705143600-1705154400@verschickungsheime.de
SUMMARY:Bawü: Samstags-Austauschgruppe
DESCRIPTION:Jeden zweiten Samstag im Monat von 11:00 bis 14:00 Uhr treffen wir uns im KISS www.kiss-stuttgart.de in Stuttgart\, Tübinger Straße 15\, in Präsenz. Alle Betroffenen von Kinderverschickung\, die in Bawü wohnen und aus Bawü verschickt wurden\, sind herzlich willkommen!
URL:https://verschickungsheime.de/event/bawue-austauschgruppe/
END:VEVENT
END:VCALENDAR