BEGIN:VCALENDAR
VERSION:2.0
PRODID:-//Verschickungsheime - ECPv6.15.20//NONSGML v1.0//EN
CALSCALE:GREGORIAN
METHOD:PUBLISH
X-ORIGINAL-URL:https://verschickungsheime.de
X-WR-CALDESC:Veranstaltungen für Verschickungsheime
REFRESH-INTERVAL;VALUE=DURATION:PT1H
X-Robots-Tag:noindex
X-PUBLISHED-TTL:PT1H
BEGIN:VTIMEZONE
TZID:Europe/Berlin
BEGIN:DAYLIGHT
TZOFFSETFROM:+0100
TZOFFSETTO:+0200
TZNAME:CEST
DTSTART:20230326T010000
END:DAYLIGHT
BEGIN:STANDARD
TZOFFSETFROM:+0200
TZOFFSETTO:+0100
TZNAME:CET
DTSTART:20231029T010000
END:STANDARD
BEGIN:DAYLIGHT
TZOFFSETFROM:+0100
TZOFFSETTO:+0200
TZNAME:CEST
DTSTART:20240331T010000
END:DAYLIGHT
BEGIN:STANDARD
TZOFFSETFROM:+0200
TZOFFSETTO:+0100
TZNAME:CET
DTSTART:20241027T010000
END:STANDARD
BEGIN:DAYLIGHT
TZOFFSETFROM:+0100
TZOFFSETTO:+0200
TZNAME:CEST
DTSTART:20250330T010000
END:DAYLIGHT
BEGIN:STANDARD
TZOFFSETFROM:+0200
TZOFFSETTO:+0100
TZNAME:CET
DTSTART:20251026T010000
END:STANDARD
END:VTIMEZONE
BEGIN:VEVENT
DTSTART;TZID=Europe/Berlin:20240124T180000
DTEND;TZID=Europe/Berlin:20240124T200000
DTSTAMP:20260420T055246
CREATED:20231221T100221Z
LAST-MODIFIED:20231221T100245Z
UID:10000997-1706119200-1706126400@verschickungsheime.de
SUMMARY:33. Videotreffen NRW
DESCRIPTION:Liebe Verschickungskinder\,wir laden alle Betroffenen mit NRW-Relevanz (aus NRW in ein anderes Bundesland\, oder aus einem anderen Bundesland nach NRW verschickt\, oder keins von beiden\, jedoch aktueller Wohnort in NRW und interessiert) zum 33. Videotreffen am Mittwoch\, den 24.01.2024\, 18.00 – 20.00 Uhr ein.Wer den Einladungslink nicht per NRW-Verteiler automatisch erhält\, kann sich gerne unter detlef.lichtrauter@akv-nrw.de oder unter jutta.redecker@akv-nrw anmelden.
URL:https://verschickungsheime.de/event/33-videotreffen-nrw/
CATEGORIES:NRW
ATTACH;FMTTYPE=image/png:https://verschickungsheime.de/wp-content/uploads/2023/12/33-Videotreffen-IG-B.png
END:VEVENT
END:VCALENDAR