BEGIN:VCALENDAR
VERSION:2.0
PRODID:-//Verschickungsheime - ECPv6.15.20//NONSGML v1.0//EN
CALSCALE:GREGORIAN
METHOD:PUBLISH
X-ORIGINAL-URL:https://verschickungsheime.de
X-WR-CALDESC:Veranstaltungen für Verschickungsheime
REFRESH-INTERVAL;VALUE=DURATION:PT1H
X-Robots-Tag:noindex
X-PUBLISHED-TTL:PT1H
BEGIN:VTIMEZONE
TZID:Europe/Berlin
BEGIN:DAYLIGHT
TZOFFSETFROM:+0100
TZOFFSETTO:+0200
TZNAME:CEST
DTSTART:20230326T010000
END:DAYLIGHT
BEGIN:STANDARD
TZOFFSETFROM:+0200
TZOFFSETTO:+0100
TZNAME:CET
DTSTART:20231029T010000
END:STANDARD
BEGIN:DAYLIGHT
TZOFFSETFROM:+0100
TZOFFSETTO:+0200
TZNAME:CEST
DTSTART:20240331T010000
END:DAYLIGHT
BEGIN:STANDARD
TZOFFSETFROM:+0200
TZOFFSETTO:+0100
TZNAME:CET
DTSTART:20241027T010000
END:STANDARD
BEGIN:DAYLIGHT
TZOFFSETFROM:+0100
TZOFFSETTO:+0200
TZNAME:CEST
DTSTART:20250330T010000
END:DAYLIGHT
BEGIN:STANDARD
TZOFFSETFROM:+0200
TZOFFSETTO:+0100
TZNAME:CET
DTSTART:20251026T010000
END:STANDARD
END:VTIMEZONE
BEGIN:VEVENT
DTSTART;TZID=Europe/Berlin:20240205T190000
DTEND;TZID=Europe/Berlin:20240205T210000
DTSTAMP:20260420T042358
CREATED:20240124T142540Z
LAST-MODIFIED:20240125T205222Z
UID:10001000-1707159600-1707166800@verschickungsheime.de
SUMMARY:Berliner Gruppe Verschickungskinder
DESCRIPTION:Die Berliner Gruppe Verschickungskinder in Präsenz trifft sich mit kurzer Unterbrechung seit 2019 in Berlin im SEKIS e.V. in Chalrlottenburg. Die nächste ist am 5. Februar um 19 Uhr in der Bismarkstraße 101\, in Berlin Charlottenburg\, U-Bhf. Deutsche Oper. Thema u.a.: Stand der Verhandlungen mit den MdBs in Berlin und Stand der Reherchemöglichkeiten in Berlin. \n\n\n\nWir\, Verschickungskinder\, die heute in Berlin wohnen und /oder einst aus Berlin verschickt wurden\, treffen uns regelmäßig jeden 1. Montag im Monat um uns miteinander auszutauschen\, oder auch Aktionen zu planen\, um die Öffentlichkeit noch mehr für unser Thema zu sensibilisieren.  In dieser Gruppe heißen euch Bea\, Joachim und Susanne willkommen. Dazu haben wir für Berlin noch eine Berliner Online-Selbsthilfegruppe\, die sich im Zoom trifft\, diese trifft sich jeden zweiten Dienstag im Monat\, (diese Gruppe leitet Valerie) dazu lädt sie gesondert ein\, unter: Selbsthilfe-Berlin@verschickungsheime.de.  \n\n\n\nAlle Infos zu Berlin allgemein\, unter: berlin@verschickungsheime.de
URL:https://verschickungsheime.de/event/berliner-gruppe-verschickungskinder-8/
END:VEVENT
END:VCALENDAR