BEGIN:VCALENDAR
VERSION:2.0
PRODID:-//Verschickungsheime - ECPv6.15.20//NONSGML v1.0//EN
CALSCALE:GREGORIAN
METHOD:PUBLISH
X-ORIGINAL-URL:https://verschickungsheime.de
X-WR-CALDESC:Veranstaltungen für Verschickungsheime
REFRESH-INTERVAL;VALUE=DURATION:PT1H
X-Robots-Tag:noindex
X-PUBLISHED-TTL:PT1H
BEGIN:VTIMEZONE
TZID:Europe/Berlin
BEGIN:DAYLIGHT
TZOFFSETFROM:+0100
TZOFFSETTO:+0200
TZNAME:CEST
DTSTART:20230326T010000
END:DAYLIGHT
BEGIN:STANDARD
TZOFFSETFROM:+0200
TZOFFSETTO:+0100
TZNAME:CET
DTSTART:20231029T010000
END:STANDARD
BEGIN:DAYLIGHT
TZOFFSETFROM:+0100
TZOFFSETTO:+0200
TZNAME:CEST
DTSTART:20240331T010000
END:DAYLIGHT
BEGIN:STANDARD
TZOFFSETFROM:+0200
TZOFFSETTO:+0100
TZNAME:CET
DTSTART:20241027T010000
END:STANDARD
BEGIN:DAYLIGHT
TZOFFSETFROM:+0100
TZOFFSETTO:+0200
TZNAME:CEST
DTSTART:20250330T010000
END:DAYLIGHT
BEGIN:STANDARD
TZOFFSETFROM:+0200
TZOFFSETTO:+0100
TZNAME:CET
DTSTART:20251026T010000
END:STANDARD
END:VTIMEZONE
BEGIN:VEVENT
DTSTART;TZID=Europe/Berlin:20240213T190000
DTEND;TZID=Europe/Berlin:20240213T210000
DTSTAMP:20260420T042357
CREATED:20240121T174241Z
LAST-MODIFIED:20240121T174242Z
UID:10000851-1707850800-1707858000@verschickungsheime.de
SUMMARY:Berliner Selbsthilfe Online-Treffen
DESCRIPTION:Hier gibt es die Möglichkeit sich über seine persönlichen Erfahrungen und deren Auswirkungen in einem geschützten Rahmen auszutauschen. Diese Gruppe besteht schon länger und zeichnet sich durch ein solidarisches und liebevolles Miteinander aus. Neue Verschickungskinder sind aber sehr willkommen und fühlen sich schnell wohl bei uns. Der Link für den Zugang bei Valerie unter Selbsthilfe-Berlin@verschickungsheime.de
URL:https://verschickungsheime.de/event/berliner-selbsthilfe-online-treffen-9/
END:VEVENT
END:VCALENDAR