BEGIN:VCALENDAR
VERSION:2.0
PRODID:-//Verschickungsheime - ECPv6.15.20//NONSGML v1.0//EN
CALSCALE:GREGORIAN
METHOD:PUBLISH
X-ORIGINAL-URL:https://verschickungsheime.de
X-WR-CALDESC:Veranstaltungen für Verschickungsheime
REFRESH-INTERVAL;VALUE=DURATION:PT1H
X-Robots-Tag:noindex
X-PUBLISHED-TTL:PT1H
BEGIN:VTIMEZONE
TZID:Europe/Berlin
BEGIN:DAYLIGHT
TZOFFSETFROM:+0100
TZOFFSETTO:+0200
TZNAME:CEST
DTSTART:20230326T010000
END:DAYLIGHT
BEGIN:STANDARD
TZOFFSETFROM:+0200
TZOFFSETTO:+0100
TZNAME:CET
DTSTART:20231029T010000
END:STANDARD
BEGIN:DAYLIGHT
TZOFFSETFROM:+0100
TZOFFSETTO:+0200
TZNAME:CEST
DTSTART:20240331T010000
END:DAYLIGHT
BEGIN:STANDARD
TZOFFSETFROM:+0200
TZOFFSETTO:+0100
TZNAME:CET
DTSTART:20241027T010000
END:STANDARD
BEGIN:DAYLIGHT
TZOFFSETFROM:+0100
TZOFFSETTO:+0200
TZNAME:CEST
DTSTART:20250330T010000
END:DAYLIGHT
BEGIN:STANDARD
TZOFFSETFROM:+0200
TZOFFSETTO:+0100
TZNAME:CET
DTSTART:20251026T010000
END:STANDARD
END:VTIMEZONE
BEGIN:VEVENT
DTSTART;TZID=Europe/Berlin:20240219T193000
DTEND;TZID=Europe/Berlin:20240219T203000
DTSTAMP:20260420T054004
CREATED:20240208T134417Z
LAST-MODIFIED:20240211T161224Z
UID:10001003-1708371000-1708374600@verschickungsheime.de
SUMMARY:NRW: Verschickungskinder – Eine neue Perspektive auf die Kindererholungskuren des 20. Jahrhunderts
DESCRIPTION:Detlef Lichtrauter (1. Vorsitzender des AKV NRW e.V.) hält einen Vortrag zum Thema “Verschickungskinder – Eine neue Perspektive auf die Kindererholungskuren des 20. Jahrhunderts”.Alle sind herzlich willkommen!Datum: 19.02.2024 (Montag)Zeit: 19:30-20:30 UhrOrt: Kath. Pfarrheim St. Maria MagdalenaKarmeliterstr. 1247608 GeldernAnreise: 8 Min. zu Fuß vom Bahnhof GeldernEintritt: frei
URL:https://verschickungsheime.de/event/verschickungskinder-eine-neue-perspektive-auf-die-kindererholungskuren-des-20-jahrhunderts/
CATEGORIES:NRW
ATTACH;FMTTYPE=image/png:https://verschickungsheime.de/wp-content/uploads/2024/02/Vortrag-Lichtrauter-Geldern-IG-B-1.png
END:VEVENT
END:VCALENDAR