BEGIN:VCALENDAR
VERSION:2.0
PRODID:-//Verschickungsheime - ECPv6.15.20//NONSGML v1.0//EN
CALSCALE:GREGORIAN
METHOD:PUBLISH
X-WR-CALNAME:Verschickungsheime
X-ORIGINAL-URL:https://verschickungsheime.de
X-WR-CALDESC:Veranstaltungen für Verschickungsheime
REFRESH-INTERVAL;VALUE=DURATION:PT1H
X-Robots-Tag:noindex
X-PUBLISHED-TTL:PT1H
BEGIN:VTIMEZONE
TZID:Europe/Berlin
BEGIN:DAYLIGHT
TZOFFSETFROM:+0100
TZOFFSETTO:+0200
TZNAME:CEST
DTSTART:20230326T010000
END:DAYLIGHT
BEGIN:STANDARD
TZOFFSETFROM:+0200
TZOFFSETTO:+0100
TZNAME:CET
DTSTART:20231029T010000
END:STANDARD
BEGIN:DAYLIGHT
TZOFFSETFROM:+0100
TZOFFSETTO:+0200
TZNAME:CEST
DTSTART:20240331T010000
END:DAYLIGHT
BEGIN:STANDARD
TZOFFSETFROM:+0200
TZOFFSETTO:+0100
TZNAME:CET
DTSTART:20241027T010000
END:STANDARD
BEGIN:DAYLIGHT
TZOFFSETFROM:+0100
TZOFFSETTO:+0200
TZNAME:CEST
DTSTART:20250330T010000
END:DAYLIGHT
BEGIN:STANDARD
TZOFFSETFROM:+0200
TZOFFSETTO:+0100
TZNAME:CET
DTSTART:20251026T010000
END:STANDARD
END:VTIMEZONE
BEGIN:VEVENT
DTSTART;TZID=Europe/Berlin:20240227T180000
DTEND;TZID=Europe/Berlin:20240227T200000
DTSTAMP:20260420T023842
CREATED:20231219T223751Z
LAST-MODIFIED:20250430T085010Z
UID:10000995-1709056800-1709064000@verschickungsheime.de
SUMMARY:Bundesweite AKTIVENSCHALTE mit Recherchen zum katholischen Schloss Friedenweiler
DESCRIPTION:Ein wunderbares Referat von Doris Heinrich:  Sie stellt ihre umfangreichen Recherchen zur katholischen Verschickungsstätte der „Caritas für die Erzdiözese Freiburg“: Bad Friedenweiler vor. Ihr Referat ist eine Kurzfassung des sehr eindrucksvollen Referats auf dem letzten Kongress. Die Veranstaltung ist öffentlich. Besonders eingeladen sind alle Aktiven der Initiative: Heimortgruppen- und Landesgruppen-Mitglieder\, besonders interessant für Menschen\, die auch in kirchliche Einrichtungen verschickt wurden. Das B \n\n\n\nBesondere in Friedenweiler: Es ist möglich\, seine persönlichen Akten anzufordern\, über die Heimortkoordinatorin Doris: verschickung-schlossfriedenweiler@web.de
URL:https://verschickungsheime.de/event/20764/
END:VEVENT
END:VCALENDAR