BEGIN:VCALENDAR
VERSION:2.0
PRODID:-//Verschickungsheime - ECPv6.15.20//NONSGML v1.0//EN
CALSCALE:GREGORIAN
METHOD:PUBLISH
X-ORIGINAL-URL:https://verschickungsheime.de
X-WR-CALDESC:Veranstaltungen für Verschickungsheime
REFRESH-INTERVAL;VALUE=DURATION:PT1H
X-Robots-Tag:noindex
X-PUBLISHED-TTL:PT1H
BEGIN:VTIMEZONE
TZID:Europe/Berlin
BEGIN:DAYLIGHT
TZOFFSETFROM:+0100
TZOFFSETTO:+0200
TZNAME:CEST
DTSTART:20230326T010000
END:DAYLIGHT
BEGIN:STANDARD
TZOFFSETFROM:+0200
TZOFFSETTO:+0100
TZNAME:CET
DTSTART:20231029T010000
END:STANDARD
BEGIN:DAYLIGHT
TZOFFSETFROM:+0100
TZOFFSETTO:+0200
TZNAME:CEST
DTSTART:20240331T010000
END:DAYLIGHT
BEGIN:STANDARD
TZOFFSETFROM:+0200
TZOFFSETTO:+0100
TZNAME:CET
DTSTART:20241027T010000
END:STANDARD
BEGIN:DAYLIGHT
TZOFFSETFROM:+0100
TZOFFSETTO:+0200
TZNAME:CEST
DTSTART:20250330T010000
END:DAYLIGHT
BEGIN:STANDARD
TZOFFSETFROM:+0200
TZOFFSETTO:+0100
TZNAME:CET
DTSTART:20251026T010000
END:STANDARD
END:VTIMEZONE
BEGIN:VEVENT
DTSTART;TZID=Europe/Berlin:20240304T190000
DTEND;TZID=Europe/Berlin:20240304T203000
DTSTAMP:20260420T024147
CREATED:20240221T071635Z
LAST-MODIFIED:20240221T072538Z
UID:10001010-1709578800-1709584200@verschickungsheime.de
SUMMARY:Berliner Gruppe Verschickungskinder im Sekis e.V.
DESCRIPTION:Für alle\, die in Berlin wohnen: Schon seit 2019 trifft sich die Berliner Gruppe Verschickungskinder im Sekis e.V.\, einmal monatlich in Berlin Charlottenburg\, in der Bismarkstrasse 101\, dierekt am U-Bhf. Deutsche Oper\, Hinterausgang. Themen sind: Austausch über unsere Erlebnisse und Ideen sammeln für politische Wirksamkeit in Berlin\, kommt gern vorbei\, Ihr seid herzlich willkommen\, Susanne\, Bea\, Anja\, Joachim u.a.
URL:https://verschickungsheime.de/event/berliner-gruppe-verschickungskinder-im-sekis-e-v-3/
END:VEVENT
END:VCALENDAR