BEGIN:VCALENDAR
VERSION:2.0
PRODID:-//Verschickungsheime - ECPv6.15.20//NONSGML v1.0//EN
CALSCALE:GREGORIAN
METHOD:PUBLISH
X-ORIGINAL-URL:https://verschickungsheime.de
X-WR-CALDESC:Veranstaltungen für Verschickungsheime
REFRESH-INTERVAL;VALUE=DURATION:PT1H
X-Robots-Tag:noindex
X-PUBLISHED-TTL:PT1H
BEGIN:VTIMEZONE
TZID:Europe/Berlin
BEGIN:DAYLIGHT
TZOFFSETFROM:+0100
TZOFFSETTO:+0200
TZNAME:CEST
DTSTART:20230326T010000
END:DAYLIGHT
BEGIN:STANDARD
TZOFFSETFROM:+0200
TZOFFSETTO:+0100
TZNAME:CET
DTSTART:20231029T010000
END:STANDARD
BEGIN:DAYLIGHT
TZOFFSETFROM:+0100
TZOFFSETTO:+0200
TZNAME:CEST
DTSTART:20240331T010000
END:DAYLIGHT
BEGIN:STANDARD
TZOFFSETFROM:+0200
TZOFFSETTO:+0100
TZNAME:CET
DTSTART:20241027T010000
END:STANDARD
BEGIN:DAYLIGHT
TZOFFSETFROM:+0100
TZOFFSETTO:+0200
TZNAME:CEST
DTSTART:20250330T010000
END:DAYLIGHT
BEGIN:STANDARD
TZOFFSETFROM:+0200
TZOFFSETTO:+0100
TZNAME:CET
DTSTART:20251026T010000
END:STANDARD
END:VTIMEZONE
BEGIN:VEVENT
DTSTART;TZID=Europe/Berlin:20240312T183000
DTEND;TZID=Europe/Berlin:20240312T193000
DTSTAMP:20260420T024056
CREATED:20240220T151907Z
LAST-MODIFIED:20240312T091413Z
UID:10001009-1710268200-1710271800@verschickungsheime.de
SUMMARY:NRW: "Gestärkt durch den Alltag!" - Info-Abend
DESCRIPTION:Exklusives Fortbildungs-Angebot von Aufarbeitung Kinderverschickungen NRW e.V.:Gestärkt durch den Alltag! Mit Positiver Psychologie zu mehr Wohlbefinden und ZuversichtIm Alltag werden wir immer wieder mit Situationen konfrontiert\, die uns belasten\, nicht schlafen lassen\, schlechte Laune machen\, verunsichern\, überfordern. Wer sich nicht damit abfinden will\, für den ist unser Fortbildungsangebot gedacht. Es ist für Betroffene von Kinderverschickung und ehrenamtlich Engagierte kostenfrei. Fundament des Angebots sind Erkenntnisse der Neurowissenschaften und evidenzbasierte wissenschaftliche Studien.Intensiv-Basis-/Trainingskurs mit Maria und Stefan. Wir üben alltagsbezogen und in kleiner Gruppe. Die Interventionen sind wunderbar anwendbar in Beruf\, Familie\, ehrenamtlicher Arbeit und vor allem hilfreich fürs eigene Leben. Basiskurs I: 4 x Sa/So im Jahr 2024Ort : Kölner ProjektbüroStart : 05/2024Ihr wollt mehr wissen? Ihr habt Fragen? Euch interessiert eine offizielle Zertifizierung für berufliche Zwecke? Dann meldet euch bitte bis 07.03. zum  \n\n\n\nZoom-Info-Abend am 12.03.2024\, 18:30-19:30 Uhr an:maria.dickmeis@akv-nrw.deWir freuen uns auf euch!Maria Dickmeis/Stefan SpieckerZertifizierte Trainer der Deutschen Gesellschaft für Positive Psychologie\, (DGPP).
URL:https://verschickungsheime.de/event/nrw-gestaerkt-durch-den-alltag-info-abend/
CATEGORIES:NRW
ATTACH;FMTTYPE=image/png:https://verschickungsheime.de/wp-content/uploads/2024/02/Gestaerkt-durch-den-Alltag-IG-B-1.png
END:VEVENT
BEGIN:VEVENT
DTSTART;TZID=Europe/Berlin:20240312T190000
DTEND;TZID=Europe/Berlin:20240312T210000
DTSTAMP:20260420T024056
CREATED:20240121T174713Z
LAST-MODIFIED:20240121T174715Z
UID:10000853-1710270000-1710277200@verschickungsheime.de
SUMMARY:Berliner Selbsthilfe Online-Treffen
DESCRIPTION:Hier gibt es die Möglichkeit sich über seine persönlichen Erfahrungen und deren Auswirkungen in einem geschützten Rahmen auszutauschen. Diese Gruppe besteht schon länger und zeichnet sich durch ein solidarisches und liebevolles Miteinander aus. Neue Verschickungskinder sind aber sehr willkommen und fühlen sich schnell wohl bei uns. Der Link für den Zugang bei Valerie unter Selbsthilfe-Berlin@verschickungsheime.de
URL:https://verschickungsheime.de/event/berliner-selbsthilfe-online-treffen-10/
END:VEVENT
END:VCALENDAR