BEGIN:VCALENDAR
VERSION:2.0
PRODID:-//Verschickungsheime - ECPv6.15.20//NONSGML v1.0//EN
CALSCALE:GREGORIAN
METHOD:PUBLISH
X-WR-CALNAME:Verschickungsheime
X-ORIGINAL-URL:https://verschickungsheime.de
X-WR-CALDESC:Veranstaltungen für Verschickungsheime
REFRESH-INTERVAL;VALUE=DURATION:PT1H
X-Robots-Tag:noindex
X-PUBLISHED-TTL:PT1H
BEGIN:VTIMEZONE
TZID:Europe/Berlin
BEGIN:DAYLIGHT
TZOFFSETFROM:+0100
TZOFFSETTO:+0200
TZNAME:CEST
DTSTART:20230326T010000
END:DAYLIGHT
BEGIN:STANDARD
TZOFFSETFROM:+0200
TZOFFSETTO:+0100
TZNAME:CET
DTSTART:20231029T010000
END:STANDARD
BEGIN:DAYLIGHT
TZOFFSETFROM:+0100
TZOFFSETTO:+0200
TZNAME:CEST
DTSTART:20240331T010000
END:DAYLIGHT
BEGIN:STANDARD
TZOFFSETFROM:+0200
TZOFFSETTO:+0100
TZNAME:CET
DTSTART:20241027T010000
END:STANDARD
BEGIN:DAYLIGHT
TZOFFSETFROM:+0100
TZOFFSETTO:+0200
TZNAME:CEST
DTSTART:20250330T010000
END:DAYLIGHT
BEGIN:STANDARD
TZOFFSETFROM:+0200
TZOFFSETTO:+0100
TZNAME:CET
DTSTART:20251026T010000
END:STANDARD
END:VTIMEZONE
BEGIN:VEVENT
DTSTART;TZID=Europe/Berlin:20240420T140000
DTEND;TZID=Europe/Berlin:20240420T170000
DTSTAMP:20260420T165739
CREATED:20240325T125202Z
LAST-MODIFIED:20240414T090159Z
UID:10001023-1713621600-1713632400@verschickungsheime.de
SUMMARY:„WAHRNEHMEN“  -   Das evangelische Diakonissenhaus Bremen lädt Betroffene von Kinderverschickung aus dem Adolfinenheim in Borkum ein
DESCRIPTION:Unter dem Stichwort: „Wahrnehmen“ lädt das ev. Diakonissenmutterhaus Bremen Menschen ein\, die als Kinder in das Adolfinenheim Borkum verschickt worden sind.  Ein Nachmittag von und mit Betroffenen und mit Vertreter:innen von Kirche und Diakonie\, Anmeldung über die Heimortgruppe: Borkum@Verschickungsheime.deOrt: Ev. Diakonissenmutterhaus Bremen\, Adelenstraße 68\, 28239 Bremen\, am 20.4.24 um 14 Uhr
URL:https://verschickungsheime.de/event/wahrnehmen/
CATEGORIES:Bremen
END:VEVENT
END:VCALENDAR