BEGIN:VCALENDAR
VERSION:2.0
PRODID:-//Verschickungsheime - ECPv6.15.20//NONSGML v1.0//EN
CALSCALE:GREGORIAN
METHOD:PUBLISH
X-WR-CALNAME:Verschickungsheime
X-ORIGINAL-URL:https://verschickungsheime.de
X-WR-CALDESC:Veranstaltungen für Verschickungsheime
REFRESH-INTERVAL;VALUE=DURATION:PT1H
X-Robots-Tag:noindex
X-PUBLISHED-TTL:PT1H
BEGIN:VTIMEZONE
TZID:Europe/Berlin
BEGIN:DAYLIGHT
TZOFFSETFROM:+0100
TZOFFSETTO:+0200
TZNAME:CEST
DTSTART:20230326T010000
END:DAYLIGHT
BEGIN:STANDARD
TZOFFSETFROM:+0200
TZOFFSETTO:+0100
TZNAME:CET
DTSTART:20231029T010000
END:STANDARD
BEGIN:DAYLIGHT
TZOFFSETFROM:+0100
TZOFFSETTO:+0200
TZNAME:CEST
DTSTART:20240331T010000
END:DAYLIGHT
BEGIN:STANDARD
TZOFFSETFROM:+0200
TZOFFSETTO:+0100
TZNAME:CET
DTSTART:20241027T010000
END:STANDARD
BEGIN:DAYLIGHT
TZOFFSETFROM:+0100
TZOFFSETTO:+0200
TZNAME:CEST
DTSTART:20250330T010000
END:DAYLIGHT
BEGIN:STANDARD
TZOFFSETFROM:+0200
TZOFFSETTO:+0100
TZNAME:CET
DTSTART:20251026T010000
END:STANDARD
END:VTIMEZONE
BEGIN:VEVENT
DTSTART;TZID=Europe/Berlin:20240422T170000
DTEND;TZID=Europe/Berlin:20240422T190000
DTSTAMP:20260420T141444
CREATED:20240325T151546Z
LAST-MODIFIED:20240325T151843Z
UID:10001025-1713805200-1713812400@verschickungsheime.de
SUMMARY:NRW: Schreibwerkstatt mit Sabine Samonig
DESCRIPTION:Präsentiert von Aufarbeitung Kinderverschickungen NRW e.V.:Die ersten beiden Workshops von Sabine Samonig waren so ertrag- und erfolgreich\, dass wir im Frühjahr wieder ihre biografische\, kreative Zoom-Schreibwerkstatt anbieten. \n\n\n\nDu wolltest immer schon aufschreiben\, was du in der Verschickung erlebt hast und wusstest nicht genau\, wie? Ich unterstütze und begleite dich bei deinen Schritten\, denn: Schreiben kann befreien. Es packt in Worte\, was vielleicht im Kreisverkehr unserer Gedanken feststeckt. Schreiben ist auch wie eine liebevolle Umarmung\, voller Zuneigung. In jedem Fall macht biografisches\, kreatives Schreiben Mut. Es gibt kein richtig und falsch. Bringe deine Geschichte(n) ans Licht\, ohne jeden literarischen Anspruch. Bring‘ aufs Papier\, was dir wichtig ist\, was dich bewegt. Herzlich Willkommen in unserer dritten Schreibwerkstatt! \n\n\n\nWas wir tun: Mithilfe von wertschätzenden vielfältigen Schreibimpulsen nähern wir uns gemeinsam behutsam deinen Erinnerungen. Du entscheidest\, was du inhaltlich anschauen und zu Papier bringen willst. In dieser Schreibwerkstatt geht es darum\, mit Offenheit die unterschiedlichen Facetten des Lebens in Worte zu fassen\, nicht nur die belastenden der Verschickung\, sondern auch die schönen. \n\n\n\nFreue dich darauf\, gemeinsam respektvoll\, stärkend und liebevoll deine Welt zu be-schreiben. Deine einzigartige Weise ist\, was zählt. Ich freue mich auf dich! \n\n\n\nAnmeldung bitte an: projekt@akv-nrw.deStichwort: “Schreibwerkstatt Sabine 3” \n\n\n\nAn allen Abenden dieses Angebots wird es bei Bedarf die Möglichkeit zu einem persönlichen Gespräch geben. Genaue Infos zu Beginn des Workshops. \n\n\n\nZoom-Termine: \n\n\n\n4 x 2 Digitale Workshop-Stunden\,jeweils montags\, 17.00 Uhr – ca. 19.00 Uhr:15.04. / 22.04. / 29.04. / 06.05.2024
URL:https://verschickungsheime.de/event/nrw-schreibwerkstatt-mit-sabine-samonig/2024-04-22/
CATEGORIES:NRW
ATTACH;FMTTYPE=image/png:https://verschickungsheime.de/wp-content/uploads/2024/03/Schreibwerkstatt-2024-IG-B.png
END:VEVENT
END:VCALENDAR