BEGIN:VCALENDAR
VERSION:2.0
PRODID:-//Verschickungsheime - ECPv6.15.20//NONSGML v1.0//EN
CALSCALE:GREGORIAN
METHOD:PUBLISH
X-ORIGINAL-URL:https://verschickungsheime.de
X-WR-CALDESC:Veranstaltungen für Verschickungsheime
REFRESH-INTERVAL;VALUE=DURATION:PT1H
X-Robots-Tag:noindex
X-PUBLISHED-TTL:PT1H
BEGIN:VTIMEZONE
TZID:Europe/Berlin
BEGIN:DAYLIGHT
TZOFFSETFROM:+0100
TZOFFSETTO:+0200
TZNAME:CEST
DTSTART:20230326T010000
END:DAYLIGHT
BEGIN:STANDARD
TZOFFSETFROM:+0200
TZOFFSETTO:+0100
TZNAME:CET
DTSTART:20231029T010000
END:STANDARD
BEGIN:DAYLIGHT
TZOFFSETFROM:+0100
TZOFFSETTO:+0200
TZNAME:CEST
DTSTART:20240331T010000
END:DAYLIGHT
BEGIN:STANDARD
TZOFFSETFROM:+0200
TZOFFSETTO:+0100
TZNAME:CET
DTSTART:20241027T010000
END:STANDARD
BEGIN:DAYLIGHT
TZOFFSETFROM:+0100
TZOFFSETTO:+0200
TZNAME:CEST
DTSTART:20250330T010000
END:DAYLIGHT
BEGIN:STANDARD
TZOFFSETFROM:+0200
TZOFFSETTO:+0100
TZNAME:CET
DTSTART:20251026T010000
END:STANDARD
END:VTIMEZONE
BEGIN:VEVENT
DTSTART;TZID=Europe/Berlin:20240423T170000
DTEND;TZID=Europe/Berlin:20240423T190000
DTSTAMP:20260422T120449
CREATED:20240406T094403Z
LAST-MODIFIED:20240406T125426Z
UID:10001031-1713891600-1713898800@verschickungsheime.de
SUMMARY:Treffen von Verschickungskindern in Kiel - Erinnerungsaustausch und Entwicklung von Zielen für das Bundesland S.-H.
DESCRIPTION:Herzliche Einladung an alle Verschickungskinder aus Schleswig-Holstein\, wir treffen uns erneut zu einem Erinnerungs-Austauschtreffen im KULTURFORUM\, in der Andreas-Gayk-Str. 31\, in 24103 Kiel\, wir freuen uns über neue Interessierte und Mitwirkende! Infos hier: Schleswig-Holstein@verschickungsheime.de
URL:https://verschickungsheime.de/event/treffen-von-verschickungskindern-in-kiel-erinnerungsaustausch-und-entwicklung-von-zielen-fuer-das-bundesland-s-h/
END:VEVENT
END:VCALENDAR