BEGIN:VCALENDAR
VERSION:2.0
PRODID:-//Verschickungsheime - ECPv6.15.20//NONSGML v1.0//EN
CALSCALE:GREGORIAN
METHOD:PUBLISH
X-ORIGINAL-URL:https://verschickungsheime.de
X-WR-CALDESC:Veranstaltungen für Verschickungsheime
REFRESH-INTERVAL;VALUE=DURATION:PT1H
X-Robots-Tag:noindex
X-PUBLISHED-TTL:PT1H
BEGIN:VTIMEZONE
TZID:Europe/Berlin
BEGIN:DAYLIGHT
TZOFFSETFROM:+0100
TZOFFSETTO:+0200
TZNAME:CEST
DTSTART:20230326T010000
END:DAYLIGHT
BEGIN:STANDARD
TZOFFSETFROM:+0200
TZOFFSETTO:+0100
TZNAME:CET
DTSTART:20231029T010000
END:STANDARD
BEGIN:DAYLIGHT
TZOFFSETFROM:+0100
TZOFFSETTO:+0200
TZNAME:CEST
DTSTART:20240331T010000
END:DAYLIGHT
BEGIN:STANDARD
TZOFFSETFROM:+0200
TZOFFSETTO:+0100
TZNAME:CET
DTSTART:20241027T010000
END:STANDARD
BEGIN:DAYLIGHT
TZOFFSETFROM:+0100
TZOFFSETTO:+0200
TZNAME:CEST
DTSTART:20250330T010000
END:DAYLIGHT
BEGIN:STANDARD
TZOFFSETFROM:+0200
TZOFFSETTO:+0100
TZNAME:CET
DTSTART:20251026T010000
END:STANDARD
END:VTIMEZONE
BEGIN:VEVENT
DTSTART;TZID=Europe/Berlin:20240425T170000
DTEND;TZID=Europe/Berlin:20240425T190000
DTSTAMP:20260420T090114
CREATED:20240413T053324Z
LAST-MODIFIED:20240416T175627Z
UID:10001034-1714064400-1714071600@verschickungsheime.de
SUMMARY:Treffen AEKV e.V.  mit wissenschaftlich Forschenden im Bereich Kinderverschickungen
DESCRIPTION:Mitglieder des AEKV e.V. treffen sich mit Wissenschaftler:innen: Es gibt inzwischen an viele Universitäten Doktoranden\, wissenschaftliche Forscherinnen und Forscher und auch Forschungsgruppen\, die sich mit dem Thema „Kinderverschickungen“ beschäftigen\, dazu Studien und Buchpublikationen in Vorbereitung haben oder noch planen. Infos dazu: aekv@verschickungsheime.de.  \n\n\n\nProf. Dr. Ilona Yim\, Prof.Dr. Christiane Dienel und Anja Röhl
URL:https://verschickungsheime.de/event/treffen-aekv-e-v-mit-wissenschaftlich-forschenden-im-bereich-kinderverschickungen/
END:VEVENT
END:VCALENDAR