BEGIN:VCALENDAR
VERSION:2.0
PRODID:-//Verschickungsheime - ECPv6.15.20//NONSGML v1.0//EN
CALSCALE:GREGORIAN
METHOD:PUBLISH
X-WR-CALNAME:Verschickungsheime
X-ORIGINAL-URL:https://verschickungsheime.de
X-WR-CALDESC:Veranstaltungen für Verschickungsheime
REFRESH-INTERVAL;VALUE=DURATION:PT1H
X-Robots-Tag:noindex
X-PUBLISHED-TTL:PT1H
BEGIN:VTIMEZONE
TZID:Europe/Berlin
BEGIN:DAYLIGHT
TZOFFSETFROM:+0100
TZOFFSETTO:+0200
TZNAME:CEST
DTSTART:20240331T010000
END:DAYLIGHT
BEGIN:STANDARD
TZOFFSETFROM:+0200
TZOFFSETTO:+0100
TZNAME:CET
DTSTART:20241027T010000
END:STANDARD
BEGIN:DAYLIGHT
TZOFFSETFROM:+0100
TZOFFSETTO:+0200
TZNAME:CEST
DTSTART:20250330T010000
END:DAYLIGHT
BEGIN:STANDARD
TZOFFSETFROM:+0200
TZOFFSETTO:+0100
TZNAME:CET
DTSTART:20251026T010000
END:STANDARD
BEGIN:DAYLIGHT
TZOFFSETFROM:+0100
TZOFFSETTO:+0200
TZNAME:CEST
DTSTART:20260329T010000
END:DAYLIGHT
BEGIN:STANDARD
TZOFFSETFROM:+0200
TZOFFSETTO:+0100
TZNAME:CET
DTSTART:20261025T010000
END:STANDARD
END:VTIMEZONE
BEGIN:VEVENT
DTSTART;TZID=Europe/Berlin:20250225T180000
DTEND;TZID=Europe/Berlin:20250225T193000
DTSTAMP:20260421T182627
CREATED:20241205T123159Z
LAST-MODIFIED:20250209T085925Z
UID:10001212-1740506400-1740511800@verschickungsheime.de
SUMMARY:Wo die Heimaufsicht versagte -Vortrag von Engelbert Tacke
DESCRIPTION:Vortrag am Dienstag\, 25. Februar 2025\, 18 UhrEngelbert Tacke Besucht die Aktivenschalte. Er wird uns etwas über seine Recherchen erzählen. Engelbert Tacke\, selbst Verschickungskind und Bürgerforschender: Wo die Heimaufsicht versagte – in Brilon\, in Westfalen und nicht nur dort. Seitdem im Hochsauerland-Kreisarchiv die Akte zur Aufsicht „meines“ Heimes aufgetaucht ist\, versuche ich herauszubekommen\, wie die Heimaufsicht funktionierte\, in Brilon\, in Westfalen und darüber hinaus. Die Aufklärung ist kompliziert – nicht alle Behörden sind über einen Kamm zu scheren. Deutlich wird aber\, dass das Versagen der staatlichen Institutionen nicht auf eine Ebene beschränkt ist. Und dass die damals handelnden Institutionen heute trotz gegenteiliger Beteuerungen nur bedingt zur Aufklärung derSachverhalte beitragen. Ich hoffe\, dass ich zum Vortagstermin neue Erkenntnisse berichten kann. Der derzeitige Stand befindet sich unter \n\n\n\nhttps://verschickungsheime.de/die-akte-kinderheim-dr-selter-und-die-heimaufsicht-im-landschaftsverband-westfalen-lippe/ \n\n\n\nBitte anmelden unter: buko@verschickungskinder.de
URL:https://verschickungsheime.de/event/wo-die-heimaufsicht-versagte/
ATTACH;FMTTYPE=image/jpeg:https://verschickungsheime.de/wp-content/uploads/2024/12/Brilon-Moehneburg-60-er-Jahre-dramatisch21-scaled.jpg
END:VEVENT
END:VCALENDAR