BEGIN:VCALENDAR
VERSION:2.0
PRODID:-//Verschickungsheime - ECPv6.15.20//NONSGML v1.0//EN
CALSCALE:GREGORIAN
METHOD:PUBLISH
X-WR-CALNAME:Verschickungsheime
X-ORIGINAL-URL:https://verschickungsheime.de
X-WR-CALDESC:Veranstaltungen für Verschickungsheime
REFRESH-INTERVAL;VALUE=DURATION:PT1H
X-Robots-Tag:noindex
X-PUBLISHED-TTL:PT1H
BEGIN:VTIMEZONE
TZID:Europe/Berlin
BEGIN:DAYLIGHT
TZOFFSETFROM:+0100
TZOFFSETTO:+0200
TZNAME:CEST
DTSTART:20240331T010000
END:DAYLIGHT
BEGIN:STANDARD
TZOFFSETFROM:+0200
TZOFFSETTO:+0100
TZNAME:CET
DTSTART:20241027T010000
END:STANDARD
BEGIN:DAYLIGHT
TZOFFSETFROM:+0100
TZOFFSETTO:+0200
TZNAME:CEST
DTSTART:20250330T010000
END:DAYLIGHT
BEGIN:STANDARD
TZOFFSETFROM:+0200
TZOFFSETTO:+0100
TZNAME:CET
DTSTART:20251026T010000
END:STANDARD
BEGIN:DAYLIGHT
TZOFFSETFROM:+0100
TZOFFSETTO:+0200
TZNAME:CEST
DTSTART:20260329T010000
END:DAYLIGHT
BEGIN:STANDARD
TZOFFSETFROM:+0200
TZOFFSETTO:+0100
TZNAME:CET
DTSTART:20261025T010000
END:STANDARD
END:VTIMEZONE
BEGIN:VEVENT
DTSTART;TZID=Europe/Berlin:20250304T193000
DTEND;TZID=Europe/Berlin:20250304T210000
DTSTAMP:20260421T195428
CREATED:20250228T142629Z
LAST-MODIFIED:20250304T000513Z
UID:10001372-1741116600-1741122000@verschickungsheime.de
SUMMARY:Einladung zum 12. Treffen der Heimortgruppe Norderney
DESCRIPTION:Hiermit lädt die Norderney-Heimortgruppe zu ihrem nächsten Zoomtreffen ein\, Interessierte melden sich gern über diese Mailadresse Norderney@verschickungsheime.deZur Info interessant: Verschickungskinder: Missbrauch und Gewalt bei Kinderkuren https://www.ndr.de/fernsehen/sendungen/ndrstory/Verschickungskinder\,sendung1517536.html
URL:https://verschickungsheime.de/event/einladung-zum-12-treffen-der-heimortgruppe-norderney/
CATEGORIES:Niedersachsen
END:VEVENT
END:VCALENDAR