BEGIN:VCALENDAR
VERSION:2.0
PRODID:-//Verschickungsheime - ECPv6.15.20//NONSGML v1.0//EN
CALSCALE:GREGORIAN
METHOD:PUBLISH
X-WR-CALNAME:Verschickungsheime
X-ORIGINAL-URL:https://verschickungsheime.de
X-WR-CALDESC:Veranstaltungen für Verschickungsheime
REFRESH-INTERVAL;VALUE=DURATION:PT1H
X-Robots-Tag:noindex
X-PUBLISHED-TTL:PT1H
BEGIN:VTIMEZONE
TZID:Europe/Berlin
BEGIN:DAYLIGHT
TZOFFSETFROM:+0100
TZOFFSETTO:+0200
TZNAME:CEST
DTSTART:20240331T010000
END:DAYLIGHT
BEGIN:STANDARD
TZOFFSETFROM:+0200
TZOFFSETTO:+0100
TZNAME:CET
DTSTART:20241027T010000
END:STANDARD
BEGIN:DAYLIGHT
TZOFFSETFROM:+0100
TZOFFSETTO:+0200
TZNAME:CEST
DTSTART:20250330T010000
END:DAYLIGHT
BEGIN:STANDARD
TZOFFSETFROM:+0200
TZOFFSETTO:+0100
TZNAME:CET
DTSTART:20251026T010000
END:STANDARD
BEGIN:DAYLIGHT
TZOFFSETFROM:+0100
TZOFFSETTO:+0200
TZNAME:CEST
DTSTART:20260329T010000
END:DAYLIGHT
BEGIN:STANDARD
TZOFFSETFROM:+0200
TZOFFSETTO:+0100
TZNAME:CET
DTSTART:20261025T010000
END:STANDARD
END:VTIMEZONE
BEGIN:VEVENT
DTSTART;TZID=Europe/Berlin:20250306T193000
DTEND;TZID=Europe/Berlin:20250306T201500
DTSTAMP:20260421T182619
CREATED:20241209T085303Z
LAST-MODIFIED:20250304T060100Z
UID:10001217-1741289400-1741292100@verschickungsheime.de
SUMMARY:Anleitung zur Gründung einer Selbsthilfegruppe
DESCRIPTION:Wie kann ich eine Selbsthilfegruppe aufbauen? Welche Aspekte muss ich dabei berücksichtigen? Anleitung und Erfahrungsaustausch – Ute Matthias-Kames und Angelika Hermanns-Ehnert von der Selbsthilfegruppe Verschickungskinder in Köln\, die 2020 gegründet wurde\, berichten von ihren Erfahrungen und gehen gerne auf eure Fragen dazu ein. Anmeldungen dazu über Angelika: \n\n\n\nBeisitzer-01@verschickungsheime.de \n\n\n\noder Ute: \n\n\n\nute.matthias-kames@akv-nrw.de
URL:https://verschickungsheime.de/event/anleitung-zur-gruendung-einer-selbsthilfegruppe-2/
CATEGORIES:Bundesweit
END:VEVENT
END:VCALENDAR