BEGIN:VCALENDAR
VERSION:2.0
PRODID:-//Verschickungsheime - ECPv6.15.20//NONSGML v1.0//EN
CALSCALE:GREGORIAN
METHOD:PUBLISH
X-WR-CALNAME:Verschickungsheime
X-ORIGINAL-URL:https://verschickungsheime.de
X-WR-CALDESC:Veranstaltungen für Verschickungsheime
REFRESH-INTERVAL;VALUE=DURATION:PT1H
X-Robots-Tag:noindex
X-PUBLISHED-TTL:PT1H
BEGIN:VTIMEZONE
TZID:Europe/Berlin
BEGIN:DAYLIGHT
TZOFFSETFROM:+0100
TZOFFSETTO:+0200
TZNAME:CEST
DTSTART:20240331T010000
END:DAYLIGHT
BEGIN:STANDARD
TZOFFSETFROM:+0200
TZOFFSETTO:+0100
TZNAME:CET
DTSTART:20241027T010000
END:STANDARD
BEGIN:DAYLIGHT
TZOFFSETFROM:+0100
TZOFFSETTO:+0200
TZNAME:CEST
DTSTART:20250330T010000
END:DAYLIGHT
BEGIN:STANDARD
TZOFFSETFROM:+0200
TZOFFSETTO:+0100
TZNAME:CET
DTSTART:20251026T010000
END:STANDARD
BEGIN:DAYLIGHT
TZOFFSETFROM:+0100
TZOFFSETTO:+0200
TZNAME:CEST
DTSTART:20260329T010000
END:DAYLIGHT
BEGIN:STANDARD
TZOFFSETFROM:+0200
TZOFFSETTO:+0100
TZNAME:CET
DTSTART:20261025T010000
END:STANDARD
END:VTIMEZONE
BEGIN:VEVENT
DTSTART;TZID=Europe/Berlin:20250319T180000
DTEND;TZID=Europe/Berlin:20250319T193000
DTSTAMP:20260421T182633
CREATED:20250221T205800Z
LAST-MODIFIED:20250221T205830Z
UID:10001369-1742407200-1742412600@verschickungsheime.de
SUMMARY:NRW: Verschickungsgewalt im Schattenreich der katholischen Kirche
DESCRIPTION:Präsentiert von Aufarbeitung Kinderverschickungen NRW e.V.:Verschickungsgewalt im Schattenreich der katholischen Kirche \n\n\n\nZoom-Vortrag von Doris Heinrich \n\n\n\nDoris fasst die Erlebnisse von 70 Verschickungskindern und die Eindrücke von über 20 ehemaligen Mitarbeiterinnen am Beispiel von Schloss Friedenweiler zusammen. \n\n\n\nDie Ergebnisse ihrer umfangreichen Recherchen sind auf alle konfessionell gebundenen Verschickungsheime übertragbar. \n\n\n\nWann: 19.03.2025\, 18:00-19:30 Uhr \n\n\n\nAnmeldungen an: projekt@akv-nrw.de \n\n\n\nStichwort: DorisDieses Angebot wird vom CSP-KV-NRW (Citizen Science Projekt-Kinderverschickungen-NRW) finanziert. Ein Projekt des AKV-NRW e.V.\, gefördert vom MAGS (Ministerium für Arbeit\, Gesundheit und Soziales)\, NRW. Es ist für Verschickungskinder mit NRW-Bezug kostenfrei. Das CSP-KV-NRW hat sich zum Ziel gesetzt\, die unheilvolle Geschichte der Kinderverschickungen aus NRW-Perspektive aufzuarbeiten und Betroffene zu unterstützen.
URL:https://verschickungsheime.de/event/verschickungsgewalt-im-schattenreich-der-katholischen-kirche/
CATEGORIES:NRW
ATTACH;FMTTYPE=image/png:https://verschickungsheime.de/wp-content/uploads/2025/02/Vortrag-Doris-Heinrich-IG-B.png
END:VEVENT
BEGIN:VEVENT
DTSTART;TZID=Europe/Berlin:20250319T190000
DTEND;TZID=Europe/Berlin:20250319T200000
DTSTAMP:20260421T182633
CREATED:20250311T171118Z
LAST-MODIFIED:20250311T190358Z
UID:10001377-1742410800-1742414400@verschickungsheime.de
SUMMARY:Eine Cloud für alle? Unser Webmaster Jan hat da eine tolle Idee
DESCRIPTION:Eine Cloud für alle? Das wäre eine super Sache!  Unser Webmaster Jan Juhnke erklärt eine neue Funktion auf der  Webseite der Initiative Verschickungskinder: Am 19.3.25 um 19 Uhr\, hier der Zoomlink
URL:https://verschickungsheime.de/event/27187/
CATEGORIES:Bundesweit
END:VEVENT
END:VCALENDAR