BEGIN:VCALENDAR
VERSION:2.0
PRODID:-//Verschickungsheime - ECPv6.15.20//NONSGML v1.0//EN
CALSCALE:GREGORIAN
METHOD:PUBLISH
X-WR-CALNAME:Verschickungsheime
X-ORIGINAL-URL:https://verschickungsheime.de
X-WR-CALDESC:Veranstaltungen für Verschickungsheime
REFRESH-INTERVAL;VALUE=DURATION:PT1H
X-Robots-Tag:noindex
X-PUBLISHED-TTL:PT1H
BEGIN:VTIMEZONE
TZID:Europe/Berlin
BEGIN:DAYLIGHT
TZOFFSETFROM:+0100
TZOFFSETTO:+0200
TZNAME:CEST
DTSTART:20240331T010000
END:DAYLIGHT
BEGIN:STANDARD
TZOFFSETFROM:+0200
TZOFFSETTO:+0100
TZNAME:CET
DTSTART:20241027T010000
END:STANDARD
BEGIN:DAYLIGHT
TZOFFSETFROM:+0100
TZOFFSETTO:+0200
TZNAME:CEST
DTSTART:20250330T010000
END:DAYLIGHT
BEGIN:STANDARD
TZOFFSETFROM:+0200
TZOFFSETTO:+0100
TZNAME:CET
DTSTART:20251026T010000
END:STANDARD
BEGIN:DAYLIGHT
TZOFFSETFROM:+0100
TZOFFSETTO:+0200
TZNAME:CEST
DTSTART:20260329T010000
END:DAYLIGHT
BEGIN:STANDARD
TZOFFSETFROM:+0200
TZOFFSETTO:+0100
TZNAME:CET
DTSTART:20261025T010000
END:STANDARD
END:VTIMEZONE
BEGIN:VEVENT
DTSTART;TZID=Europe/Berlin:20250320T180000
DTEND;TZID=Europe/Berlin:20250320T193000
DTSTAMP:20260421T182632
CREATED:20250316T073301Z
LAST-MODIFIED:20250316T073429Z
UID:10001378-1742493600-1742499000@verschickungsheime.de
SUMMARY:Drittes Online-Treffen Sylt
DESCRIPTION:Drittes Online-Treffen Sylt am Donnerstag\, den 20.03.2025 um 18.00 Uhr \n\n\n\nDie Sylter Aktiven Betroffenen von Kinderverschickung (HOK-Gruppe Sylt) laden herzlich ein zum Dritten Online-Treffen Sylt\, am Donnerstag\, den 20.3.25 um 18 Uhr. Den LINK bekommt Ihr hier: sylt@verschickungsheime.de. Wir freuen uns auf Euch.
URL:https://verschickungsheime.de/event/drittes-online-treffen-sylt/
CATEGORIES:Landeskoordination,Schleswig-Holstein
END:VEVENT
END:VCALENDAR