BEGIN:VCALENDAR
VERSION:2.0
PRODID:-//Verschickungsheime - ECPv6.15.20//NONSGML v1.0//EN
CALSCALE:GREGORIAN
METHOD:PUBLISH
X-ORIGINAL-URL:https://verschickungsheime.de
X-WR-CALDESC:Veranstaltungen für Verschickungsheime
REFRESH-INTERVAL;VALUE=DURATION:PT1H
X-Robots-Tag:noindex
X-PUBLISHED-TTL:PT1H
BEGIN:VTIMEZONE
TZID:Europe/Berlin
BEGIN:DAYLIGHT
TZOFFSETFROM:+0100
TZOFFSETTO:+0200
TZNAME:CEST
DTSTART:20240331T010000
END:DAYLIGHT
BEGIN:STANDARD
TZOFFSETFROM:+0200
TZOFFSETTO:+0100
TZNAME:CET
DTSTART:20241027T010000
END:STANDARD
BEGIN:DAYLIGHT
TZOFFSETFROM:+0100
TZOFFSETTO:+0200
TZNAME:CEST
DTSTART:20250330T010000
END:DAYLIGHT
BEGIN:STANDARD
TZOFFSETFROM:+0200
TZOFFSETTO:+0100
TZNAME:CET
DTSTART:20251026T010000
END:STANDARD
BEGIN:DAYLIGHT
TZOFFSETFROM:+0100
TZOFFSETTO:+0200
TZNAME:CEST
DTSTART:20260329T010000
END:DAYLIGHT
BEGIN:STANDARD
TZOFFSETFROM:+0200
TZOFFSETTO:+0100
TZNAME:CET
DTSTART:20261025T010000
END:STANDARD
END:VTIMEZONE
BEGIN:VEVENT
DTSTART;TZID=Europe/Berlin:20250407T170000
DTEND;TZID=Europe/Berlin:20250407T180000
DTSTAMP:20260421T155722
CREATED:20241106T141658Z
LAST-MODIFIED:20241107T121442Z
UID:10001194-1744045200-1744048800@verschickungsheime.de
SUMMARY:NRW: Innerlich ruhig und stabil - Achtsamkeits-Training mit Birgit Schönberger
DESCRIPTION:Aufarbeitung Kinderverschickungen NRW e.V. präsentiert:Online-Achtsamkeitskurs einmal im Monat montags von 17.00 bis 18.00 Uhr \n\n\n\nMit Birgit Schönberger \n\n\n\nWenn das Leben gerade verrücktspielt\, unser Alltag anstrengend ist oder belastende Erinnerungen hochkommen\, landen wir manchmal in einer Grübelspirale. Wir verlieren den Mut und den Kontakt zu unseren Stärken. Doch es gibt in uns einen inneren Kraftort und einen Ruhepol\, der immer da ist\, egal\, wieviel Turbulenzen wir erleben. Mit einfachen stärkenden Body-Mind- und Stressregulations-Übungen können wir wieder ins Gleichgewicht kommen. In dieser Workshop-Reihe üben wir\, die Gedanken zu beruhigen\, mit schwierigen Gefühlen umzugehen und uns wieder stabil zu fühlen. Wir erkunden\, was uns stärkt und uns hilft\, mit Herausforderungen umzugehen und daran zu wachsen. Gemeinsam in einer Gruppe in einem geschützten Raum zu üben\, wirkt bereits beruhigend und unterstützend. In jedem Workshop ist am Ende Raum für Austausch zu zweit. Es sind keine Vorkenntnisse nötig. \n\n\n\nHier die neuen Termine: \n\n\n\n25.11.2024/16.12.2024/03.02.2025/03.03.2025/07.04.2025/05.05.2025/02.06.2025 \n\n\n\nAnmeldungen an: Projekt@akv-nrw.deStichwort: Achtsamkeit Birgit \n\n\n\nDieses Angebot wird vom CSP-KV-NRW (Citizen Science Projekt-Kinderverschickungen-NRW) finanziert. Ein Projekt des AKV-NRW e.V.\, gefördert vom MAGS (Ministerium für Arbeit\, Gesundheit und Soziales)\, NRW. Es ist für Verschickungskinder mit NRW-Bezug kostenfrei. Das CSP-KV-NRW hat sich zum Ziel gesetzt\, die unheilvolle Geschichte der Kinderverschickungen aus NRW-Perspektive aufzuarbeiten und Betroffene zu unterstützen.
URL:https://verschickungsheime.de/event/innerlich-ruhig-und-stabil-achtsamkeits-training-mit-birgit-schoenberger/2025-04-07/
CATEGORIES:NRW
ATTACH;FMTTYPE=image/png:https://verschickungsheime.de/wp-content/uploads/2024/11/Achtsamkeit-2024-2025-IG-B.png
END:VEVENT
BEGIN:VEVENT
DTSTART;TZID=Europe/Berlin:20250407T180000
DTEND;TZID=Europe/Berlin:20250407T200000
DTSTAMP:20260421T155722
CREATED:20250404T092027Z
LAST-MODIFIED:20250404T093150Z
UID:10001393-1744048800-1744056000@verschickungsheime.de
SUMMARY:Treffen der Berliner Gruppe Verschickungskinder im Sekis am 7.4.25 um 18 Uhr
DESCRIPTION:Montag\, den 7. 4. 25 lädt die Berliner Gruppe der ehemaligen Verschickungskinder alle Betroffenen\, die heute in Berlin wohnen\, zu einem Präsenztreffen nach Berlin\, in Die Bismarckstraße 101\, ins Sekis e.V. ein. Die Gruppe trifft sich jetzt nur noch einmal im Frühjahr und einmal im Herbst im Sekis. Hier wird sich ausgetauscht und gemeinsam überlegt\, wie wir unser Thema noch weiter voranbringen können.  Zu jeweils bestimmten Themen werden dann aus der Gruppe heraus Veranstaltungen und Unternehmungen geplant\, monatlich wird dazu von Berlin aus immer eine Selbsthilfegruppe im Zoom angeboten. (auch hier unter TERMINE) Kommt einfach auch spontan vorbei\, wir freuen uns: berlin@verschickungsheime.de ( Hier könnt ihr euch anmelden\, wenn ihr regelmäßig über Berliner Veranstaltungen informiert werden wollt) Nächste Veranstaltung am 26. April im Nachbarschaftsheim Schöneberg.
URL:https://verschickungsheime.de/event/treffen-der-berliner-gruppe-verschickungskinder-im-sekis-am-7-4-25-um-18-uhr/
CATEGORIES:Berlin,Brandenburg
ATTACH;FMTTYPE=image/jpeg:https://verschickungsheime.de/wp-content/uploads/2024/01/Kofferaktion.jpeg
END:VEVENT
END:VCALENDAR