BEGIN:VCALENDAR
VERSION:2.0
PRODID:-//Verschickungsheime - ECPv6.15.20//NONSGML v1.0//EN
CALSCALE:GREGORIAN
METHOD:PUBLISH
X-WR-CALNAME:Verschickungsheime
X-ORIGINAL-URL:https://verschickungsheime.de
X-WR-CALDESC:Veranstaltungen für Verschickungsheime
REFRESH-INTERVAL;VALUE=DURATION:PT1H
X-Robots-Tag:noindex
X-PUBLISHED-TTL:PT1H
BEGIN:VTIMEZONE
TZID:Europe/Berlin
BEGIN:DAYLIGHT
TZOFFSETFROM:+0100
TZOFFSETTO:+0200
TZNAME:CEST
DTSTART:20240331T010000
END:DAYLIGHT
BEGIN:STANDARD
TZOFFSETFROM:+0200
TZOFFSETTO:+0100
TZNAME:CET
DTSTART:20241027T010000
END:STANDARD
BEGIN:DAYLIGHT
TZOFFSETFROM:+0100
TZOFFSETTO:+0200
TZNAME:CEST
DTSTART:20250330T010000
END:DAYLIGHT
BEGIN:STANDARD
TZOFFSETFROM:+0200
TZOFFSETTO:+0100
TZNAME:CET
DTSTART:20251026T010000
END:STANDARD
BEGIN:DAYLIGHT
TZOFFSETFROM:+0100
TZOFFSETTO:+0200
TZNAME:CEST
DTSTART:20260329T010000
END:DAYLIGHT
BEGIN:STANDARD
TZOFFSETFROM:+0200
TZOFFSETTO:+0100
TZNAME:CET
DTSTART:20261025T010000
END:STANDARD
END:VTIMEZONE
BEGIN:VEVENT
DTSTART;TZID=Europe/Berlin:20250426T160000
DTEND;TZID=Europe/Berlin:20250426T183000
DTSTAMP:20260421T143019
CREATED:20250422T073842Z
LAST-MODIFIED:20250422T073908Z
UID:10001398-1745683200-1745692200@verschickungsheime.de
SUMMARY:Das Elend der Verschickungskinder - Veranstaltung im Nachbarschaftsheim Schöneberg mit Stadtrat Oliver Schworck
DESCRIPTION:Hiermit laden ehemalige Verschickungskinder herzlich zu einer Präsenz-Veranstaltung im NBH Schöneberg\, am 26.4.25 um 16 Uhr zum Thema: Das Elend der Verschickungskinder – Wie kann die individuelle und gesellschaftliche Aufarbeitung aussehen? Referentin Anja Röhl\, als Gast Oliver Schworck
URL:https://verschickungsheime.de/event/das-elend-der-verschickungskinder-veranstaltung-im-nachbarschaftsheim-schoeneberg-mit-stadtrat-oliver-schworck/
CATEGORIES:Berlin,Brandenburg,Bundesweit
END:VEVENT
END:VCALENDAR